BEGIN:VCALENDAR
VERSION:2.0
PRODID:-//ChamberMaster//Event Calendar 2.0//EN
METHOD:PUBLISH
X-PUBLISHED-TTL:P3D
REFRESH-INTERVAL:P3D
CALSCALE:GREGORIAN
BEGIN:VEVENT
DTSTART:20160112T043000Z
DTEND:20160112T063200Z
X-MICROSOFT-CDO-ALLDAYEVENT:FALSE
SUMMARY:Dave Stamey in Concert
DESCRIPTION:This concert is a fundraiser for The Albion Little River Volunteer Â Fire Department to be held at the Abalone Room at Little River Inn on Friday the 15th of January Â beginning at 7:30pm \, tickets $20 available at Moores Books\, Little River Inn and the Music Merchant Fort Bragg.
X-ALT-DESC;FMTTYPE=text/html:<p>This concert is a fundraiser for The Albion Little River Volunteer Â Fire Department to be held at the Abalone Room at Little River Inn on Friday the 15th of January Â beginning at 7:30pm \, tickets $20 available at Moores Books\, Little River Inn and the Music Merchant Fort Bragg.</p>
LOCATION:Little River Inn Little River Ca
UID:e.2883.828
SEQUENCE:3
DTSTAMP:20260421T210913Z
URL:https://mendocinocoast.com/events/details/dave-stamey-in-concert-01-11-2016-828
END:VEVENT

END:VCALENDAR
