BEGIN:VCALENDAR
VERSION:2.0
PRODID:-//ChamberMaster//Event Calendar 2.0//EN
METHOD:PUBLISH
X-PUBLISHED-TTL:P3D
REFRESH-INTERVAL:P3D
CALSCALE:GREGORIAN
BEGIN:VEVENT
DTSTART:20150116T010100Z
DTEND:20150116T030000Z
X-MICROSOFT-CDO-ALLDAYEVENT:FALSE
SUMMARY:Cyprus String Quartet at Gualala Arts Center
DESCRIPTION:Cyprus String Quartet Known for its elegant performances\, the Cypress String Quartet has been praised by Gramophone for its "artistry of uncommon insight and cohesion\," and its sound has been called "beautifully proportioned and powerful" by The Washington Post. $25/advance\; $5 /day of show. 4 p.m. Gualala Arts Center\, 46501 Gualala Road\, Gualala. 707.884.1138 www.gualalaarts.org
X-ALT-DESC;FMTTYPE=text/html:<p><strong>Cyprus String Quartet </strong>Known for its elegant performances\, the Cypress String Quartet has been praised by Gramophone for its "artistry of uncommon insight and cohesion\," and its sound has been called "beautifully proportioned and powerful" by The Washington Post. $25/advance\; $5 /day of show. 4 p.m. Gualala Arts Center\, 46501 Gualala Road\, Gualala. 707.884.1138 www.gualalaarts.org</p>
LOCATION:Gualala Arts Center
UID:e.2883.438
SEQUENCE:3
DTSTAMP:20260422T163615Z
URL:https://mendocinocoast.com/events/details/cyprus-string-quartet-at-gualala-arts-center-01-15-2015-438
END:VEVENT

END:VCALENDAR
