BEGIN:VCALENDAR
VERSION:2.0
PRODID:-//ChamberMaster//Event Calendar 2.0//EN
METHOD:PUBLISH
X-PUBLISHED-TTL:P3D
REFRESH-INTERVAL:P3D
CALSCALE:GREGORIAN
BEGIN:VEVENT
DTSTART;VALUE=DATE:20140830
DTEND;VALUE=DATE:20140831
TRANSP:TRANSPARENT
X-MICROSOFT-CDO-ALLDAYEVENT:TRUE
SUMMARY:Craft Fair Paul Bunyan Days
DESCRIPTION:A favorite Paul Bunyan Days event is the two day Art and Crafts Fair sponsored by Soroptimist International of Fort Bragg. The fair is Saturday and Sunday\, August 30 and 31. Fair hours are 10 â€“ 5 on Saturday\, 10 â€“ 4 Sunday\, at the CV Starr Community Center\, 300 S. Lincoln.
X-ALT-DESC;FMTTYPE=text/html:<p>A favorite Paul Bunyan Days event is the two day Art and Crafts Fair sponsored by Soroptimist International of Fort Bragg. The fair is Saturday and Sunday\, August 30 and 31. Fair hours are 10 â€“ 5 on Saturday\, 10 â€“ 4 Sunday\, at the CV Starr Community Center\, 300 S. Lincoln.</p>
LOCATION:CV Starr Community Center Fort Bragg
UID:e.2883.322
SEQUENCE:3
DTSTAMP:20260423T010915Z
URL:https://mendocinocoast.com/events/details/craft-fair-paul-bunyan-days-08-30-2014-322
END:VEVENT

END:VCALENDAR
