BEGIN:VCALENDAR
VERSION:2.0
PRODID:-//ChamberMaster//Event Calendar 2.0//EN
METHOD:PUBLISH
X-PUBLISHED-TTL:P3D
REFRESH-INTERVAL:P3D
CALSCALE:GREGORIAN
BEGIN:VEVENT
DTSTART;VALUE=DATE:20150520
DTEND;VALUE=DATE:20150521
TRANSP:TRANSPARENT
X-MICROSOFT-CDO-ALLDAYEVENT:TRUE
SUMMARY:Craft Fair Indoor At Crown Hall
DESCRIPTION:Craft sale with many venders selling from fresh spun yarn\, jam\, BBQ sauce\, quilts\, dishtowels\, Scentsy\, Jamberry nails\, driftwood bird houses and more!Food and music\,Historic Portuguese building with Queen Laurel selling raffle tickets\, our silver crown will be on display as well as other historic artifactsAdmission is free.
X-ALT-DESC;FMTTYPE=text/html:<p>Craft sale with many venders selling from fresh spun yarn\, jam\, BBQ sauce\, quilts\, dishtowels\, Scentsy\, Jamberry nails\, driftwood bird houses and more!</p><p>Food and music\,</p><p>Historic Portuguese building with Queen Laurel selling raffle tickets\, our silver crown will be on display as well as other historic artifacts</p><p>Admission is free.</p>
LOCATION:Crown Hall Mendocino
UID:e.2883.631
SEQUENCE:3
DTSTAMP:20260422T101430Z
URL:https://mendocinocoast.com/events/details/craft-fair-indoor-at-crown-hall-05-20-2015-631
END:VEVENT

END:VCALENDAR
