BEGIN:VCALENDAR
VERSION:2.0
PRODID:-//ChamberMaster//Event Calendar 2.0//EN
METHOD:PUBLISH
X-PUBLISHED-TTL:P3D
REFRESH-INTERVAL:P3D
CALSCALE:GREGORIAN
BEGIN:VEVENT
DTSTART:20141101T010600Z
DTEND:20141101T000600Z
X-MICROSOFT-CDO-ALLDAYEVENT:FALSE
SUMMARY:Crab\, Wine\, and Beer Festival
DESCRIPTION:Youâ€™re invited to Mendocino County's 16th annualÂ Crab\, Wine & Beer Festival. Mendocino  County is home to fishermen who harvest delicious Dungeness crab and to  grape growers\, winemakers\, and brewmasters who reap the bounty of the  county to produce fine wines and brews that pair exquisitely with  seafood. Held midway through the long winter months\, the 10-day  countywide festival is an opportunity to shrug off the winter blues and  indulge in fine seafood\, wine\, and beer.\n\nWe create dozens of  events for you to enjoy: family-style crab and cioppino feeds\, gourmet  crab-themed dinners\, crab and wine pairings\, crab fishing adventures\, a  Wine Competition showcasing local wines\, and the ever popular Crab Cake  Cook-off that highlights the talents of our countyâ€™s chefs.For general  questions about the events during the festival please call 707.734.0177
X-ALT-DESC;FMTTYPE=text/html:<p>Youâ€™re invited to Mendocino County's 16th annualÂ <strong>Crab\, Wine &amp\; Beer Festival.</strong> Mendocino  County is home to fishermen who harvest delicious Dungeness crab and to  grape growers\, winemakers\, and brewmasters who reap the bounty of the  county to produce fine wines and brews that pair exquisitely with  seafood. Held midway through the long winter months\, the 10-day  countywide festival is an opportunity to shrug off the winter blues and  indulge in fine seafood\, wine\, and beer.<br /><br />We create dozens of  events for you to enjoy: family-style crab and cioppino feeds\, gourmet  crab-themed dinners\, crab and wine pairings\, crab fishing adventures\, a  Wine Competition showcasing local wines\, and the ever popular Crab Cake  Cook-off that highlights the talents of our countyâ€™s chefs.For general  questions about the events during the festival please call 707.734.0177</p>
LOCATION:County Mendocino\, Fort Bragg
UID:e.2883.368
SEQUENCE:3
DTSTAMP:20260422T214801Z
URL:https://mendocinocoast.com/events/details/crab-wine-and-beer-festival-10-31-2014-368
END:VEVENT

END:VCALENDAR
