BEGIN:VCALENDAR
VERSION:2.0
PRODID:-//ChamberMaster//Event Calendar 2.0//EN
METHOD:PUBLISH
X-PUBLISHED-TTL:P3D
REFRESH-INTERVAL:P3D
CALSCALE:GREGORIAN
BEGIN:VEVENT
DTSTART:20150120T030000Z
DTEND:20150119T080000Z
X-MICROSOFT-CDO-ALLDAYEVENT:FALSE
SUMMARY:Crab Feed at Mendocino Crown Hall
DESCRIPTION:Attend the meanest Crab Feed and evening of entertainment on the coast! All-You-Can-Eat Crab \, plus salad\, bread\, wine and dessert! All this\, and infamous "crab hats"\, proven to atually enhance the experience\, means you should get your tickets early - this event sells out every year. It takes place on January 23 and 24 from 6 pm.Live entertainment at 8 pm and the Grand Raffle at 9 pm. Tickets are $55.Mendocino Crown Hall is at 45285 Ukiah St. Mendocino. Call 707-937-1803 or go to kccrabfeed@mcn.org for more information.
X-ALT-DESC;FMTTYPE=text/html:<p>Attend the meanest Crab Feed and evening of entertainment on the coast! All-You-Can-Eat Crab \, plus salad\, bread\, wine and dessert! All this\, and infamous "crab hats"\, proven to atually enhance the experience\, means you should get your tickets early - this event sells out every year. It takes place on January 23 and 24 from 6 pm.</p><p>Live entertainment at 8 pm and the Grand Raffle at 9 pm. Tickets are $55.</p><p>Mendocino Crown Hall is at 45285 Ukiah St. Mendocino. Call 707-937-1803 or go to kccrabfeed@mcn.org for more information.</p>
LOCATION:Mendocino Crown Hall Mendocino CA
UID:e.2883.446
SEQUENCE:3
DTSTAMP:20260422T182043Z
URL:https://mendocinocoast.com/events/details/crab-feed-at-mendocino-crown-hall-01-19-2015-446
END:VEVENT

END:VCALENDAR
