BEGIN:VCALENDAR
VERSION:2.0
PRODID:-//ChamberMaster//Event Calendar 2.0//EN
METHOD:PUBLISH
X-PUBLISHED-TTL:P3D
REFRESH-INTERVAL:P3D
CALSCALE:GREGORIAN
BEGIN:VEVENT
DTSTART;VALUE=DATE:20151223
DTEND;VALUE=DATE:20151224
TRANSP:TRANSPARENT
X-MICROSOFT-CDO-ALLDAYEVENT:TRUE
SUMMARY:Crab Feed!
DESCRIPTION:There will be a crab feed Jan 23 at the Fort Bragg Fire House 141 N Main Street from Noon to 6:00. Arrangements have been made to obtain safe crab for the Fort Bragg Rotary-Mendocino Coast Sports Foundation Fundraiser. Price will be $75 per person and will include fresh (safe) crab\, clam chowder\, garlic bread\, salad\, coffee or tea. Beer\, Wine and desserts will also be available. For tickets call 964-6331 or stop by Pyorre Insurance Agency 310 S Main or Sport Dodge 964-5915 200 Chestnut Street
X-ALT-DESC;FMTTYPE=text/html:<p><span>There will be a crab feed Jan 23 at the Fort Bragg Fire House 141 N Main Street from Noon to 6:00. Arrangements have been made to obtain safe crab for the Fort Bragg Rotary-Mendocino Coast Sports Foundation Fundraiser. Price will be $75 per person and will include fresh (safe) crab\, clam chowder\, garlic bread\, salad\, coffee or tea. Beer\, Wine and desserts will also be available. For tickets call 964-6331 or stop by Pyorre Insurance Agency 310 S Main or Sport Dodge 964-5915 200 Chestnut Street </span></p>
LOCATION:Fort Bragg Fire House
UID:e.2883.816
SEQUENCE:3
DTSTAMP:20260421T222706Z
URL:https://mendocinocoast.com/events/details/crab-feed-12-23-2015-816
END:VEVENT

END:VCALENDAR
