BEGIN:VCALENDAR
VERSION:2.0
PRODID:-//ChamberMaster//Event Calendar 2.0//EN
METHOD:PUBLISH
X-PUBLISHED-TTL:P3D
REFRESH-INTERVAL:P3D
CALSCALE:GREGORIAN
BEGIN:VEVENT
DTSTART:20140128T230000Z
DTEND:20140129T020100Z
X-MICROSOFT-CDO-ALLDAYEVENT:FALSE
SUMMARY:Crab Cake Cook-Off & Wine Tasting Competition ~ A Benefit for Mendocino Coast Clinics!
DESCRIPTION:Celebrating\n our 15th Annual FUNdraising event! Savor crab cakes while sipping wines from\n Americaâ€™s Greenest Wine Region! Mendocino County chefs each perfect their own\n recipes and prepare hundreds of crab cakes for your sampling pleasure.\n Mendocino wineries pour their very best! Vote your favorite Chef and Winery\n for the coveted Peoplesâ€™ Choice Award ~ and see how your vote matches up with\n the Professional Judgesâ€™ Awards! Experience the best as you sample\n microbrews\, spirits and wares from our fine food purveyors\, all Made in\n Mendocino! Extraordinary wines\, destinations\, gifts offered in the Raffle\,\n Silent & LIVE Auctions. At MCC\, your contribution makes a difference.\n Proceeds from the 2014 â€œPass the Crab Canâ€ are dedicated to the establishment\n of a Health & Wellness Program at MCC\, focusing on building a health\n community for all coastal residents. Indulge in the Bounty of Mendocino\n County\, as you raise a glass and raise funds for the only not-for-profit\n community health center on the North Coast. http://mccinc.org 961-3463
X-ALT-DESC;FMTTYPE=text/html:<p><br /><br /><br /><br /></p><table border="0" cellspacing="0" cellpadding="0" width="568"><colgroup><col width="568"></col></colgroup> <tbody><tr height="17"><td width="568" height="17"><p>Celebrating<br /> our 15th Annual FUNdraising event! Savor crab cakes while sipping wines from<br /> Americaâ€™s Greenest Wine Region! Mendocino County chefs each perfect their own<br /> recipes and prepare hundreds of crab cakes for your sampling pleasure.<br /> Mendocino wineries pour their very best! Vote your favorite Chef and Winery<br /> for the coveted Peoplesâ€™ Choice Award ~ and see how your vote matches up with<br /> the Professional Judgesâ€™ Awards! Experience the best as you sample<br /> microbrews\, spirits and wares from our fine food purveyors\, all Made in<br /> Mendocino! Extraordinary wines\, destinations\, gifts offered in the Raffle\,<br /> Silent &amp\; LIVE Auctions. At MCC\, your contribution makes a difference.<br /> Proceeds from the 2014 â€œPass the Crab Canâ€ are dedicated to the establishment<br /> of a Health &amp\; Wellness Program at MCC\, focusing on building a health<br /> community for all coastal residents. Indulge in the Bounty of Mendocino<br /> County\, as you raise a glass and raise funds for the only not-for-profit<br /> community health center on the North Coast.</p><table border="0" cellspacing="0" cellpadding="0" width="568"><colgroup><col width="568"></col></colgroup> <tbody><tr height="17"><td width="568" height="17"><p><a href="http://mccinc.org">http://mccinc.org</a></p><table border="0" cellspacing="0" cellpadding="0" width="242"><colgroup><col width="242"></col></colgroup> <tbody><tr height="17"><td width="242" height="17">961-3463</td></tr></tbody></table></td></tr></tbody></table></td></tr></tbody></table>
LOCATION:"Big White Tent at the Corner of Main & Spruce\, Fort Bragg "
UID:e.2883.91
SEQUENCE:3
DTSTAMP:20260423T150124Z
URL:https://mendocinocoast.com/events/details/crab-cake-cook-off-wine-tasting-competition-a-benefit-for-mendocino-coast-clinics-01-28-2014-91
END:VEVENT

END:VCALENDAR
