BEGIN:VCALENDAR
VERSION:2.0
PRODID:-//ChamberMaster//Event Calendar 2.0//EN
METHOD:PUBLISH
X-PUBLISHED-TTL:P3D
REFRESH-INTERVAL:P3D
CALSCALE:GREGORIAN
BEGIN:VEVENT
DTSTART:20150128T190000Z
DTEND:20150128T200000Z
X-MICROSOFT-CDO-ALLDAYEVENT:FALSE
SUMMARY:Course at Botanical Gardens_Creating a Stone Bridge and Waterfalls
DESCRIPTION:The Agony and the Ecstasy of a Dream Come True - Creating a Stone Bridge and Waterfalls with Judy & Bob Mathey\, Saturday\, March 7\, 2015\, from 10 am to 11 am at the Gardens Meeting Room.The class is free - Please reserve your spotÂ by phoning 707 964-4352 ext. 16 or stopping by The Garden Store at MCBG.For more information\, go toÂ http://www.gardenbythesea.org/education/workshops/bridges-and-waterfalls/
X-ALT-DESC;FMTTYPE=text/html:<p>The Agony and the Ecstasy of a Dream Come True - Creating a Stone Bridge and Waterfalls with Judy &amp\; Bob Mathey\, Saturday\, March 7\, 2015\, from 10 am to 11 am at the Gardens Meeting Room.</p><p>The class is free - Please reserve your spotÂ by phoning 707 964-4352 ext. 16 or stopping by The Garden Store at MCBG.</p><p>For more information\, go toÂ <a href="http://www.gardenbythesea.org/education/workshops/bridges-and-waterfalls/" target="_blank">http://www.gardenbythesea.org/education/workshops/bridges-and-waterfalls/</a></p>
LOCATION:Mendocino Coast Botanical Gardens Fort Bragg\, CA
UID:e.2883.459
SEQUENCE:3
DTSTAMP:20260422T163837Z
URL:https://mendocinocoast.com/events/details/course-at-botanical-gardens_creating-a-stone-bridge-and-waterfalls-01-28-2015-459
END:VEVENT

END:VCALENDAR
