BEGIN:VCALENDAR
VERSION:2.0
PRODID:-//ChamberMaster//Event Calendar 2.0//EN
METHOD:PUBLISH
X-PUBLISHED-TTL:P3D
REFRESH-INTERVAL:P3D
CALSCALE:GREGORIAN
BEGIN:VEVENT
DTSTART:20141112T190000Z
DTEND:20141113T000000Z
X-MICROSOFT-CDO-ALLDAYEVENT:FALSE
SUMMARY:Country Christmas
DESCRIPTION:The Mendocino Study Club invites you to Country Christmas. A delightful sale of crafts\,baked goodies\, james\,jellies and special treasures- just in time to kick off the holiday season. The proceeds are the benefit the mendocino Community Library and provide scholarships for local students.
X-ALT-DESC;FMTTYPE=text/html:<p>The Mendocino Study Club invites you to <strong>Country Christmas. </strong>A delightful sale of crafts\,baked goodies\, james\,jellies and special treasures- just in time to kick off the holiday season. The proceeds are the benefit the mendocino Community Library and provide scholarships for local students.</p>
LOCATION:Preston Hall Mendocino Presbyterian Church Mendocino CA
UID:e.2883.375
SEQUENCE:3
DTSTAMP:20260422T195801Z
URL:https://mendocinocoast.com/events/details/country-christmas-11-12-2014-375
END:VEVENT

END:VCALENDAR
