BEGIN:VCALENDAR
VERSION:2.0
PRODID:-//ChamberMaster//Event Calendar 2.0//EN
METHOD:PUBLISH
X-PUBLISHED-TTL:P3D
REFRESH-INTERVAL:P3D
CALSCALE:GREGORIAN
BEGIN:VEVENT
DTSTART:20150411T030000Z
DTEND:20150411T050000Z
X-MICROSOFT-CDO-ALLDAYEVENT:FALSE
SUMMARY:Concert with Mendocino Women's Choir
DESCRIPTION:Swing into Spring with the Mendocino Womenâ€™s Choir\, celebrating their 23rd year of sassy\, soulful\, contemporary\, joyful song and dance.Â The choir\, conceived in 1992\, has remained a vibrant\, eclectic womenâ€™s community choir\, performing at celebrations county-wide and at venues at New Yorkâ€™s Carnegie Hall\, atÂ  Judy Chicagoâ€™s Dinner Party exhibit at the Armand Hammer Museum in Los Angeles\, and at pre-Olympic celebrations in and around London in 2012.Â Join them at Matheson Performing Arts Center in Mendocino for a journey through a wide spectrum of music that touches both heart and funny bone.Â Words and music by Steve Martin\, Pharrell Williams\, Emily Dickinson\, Lorde\, Mama Cass\, along with Bollywood\, African chant\, Rockâ€™nâ€™ Roll\, ukuleles\, and jazz will delight and keep the toes tapping.Musical director Cynthia Frank\, accompanist Marie-Claire Dizin\, percussionist Claudia Paige and refreshments by Robert Golemanâ€™s Bolliverâ€™s fill out an extraordinary experience.Â Performances are Thursday April 23 and Friday April 24th at 8 pm and Saturday April 25th at 2 pm and 8 pm.Â Advance tickets at Harvest Market in Fort Bragg and Silver & Stone on Main Street in Mendocino.Â Shows are usually sold out early.Â General admission (12 and up): $15.00Seniors (65+) $10.00Children under 12 $5.00Â For more information\, please call 707-964-3752.Â For more information about the choir\, please visitÂ www.mendocinowomenschoir.org or our FaceBook page.
X-ALT-DESC;FMTTYPE=text/html:<p>Swing into Spring with the Mendocino Womenâ€™s Choir\, celebrating their 23<sup>rd</sup> year of sassy\, soulful\, contemporary\, joyful song and dance.</p><p>Â </p><p>The choir\, conceived in 1992\, has remained a vibrant\, eclectic womenâ€™s community choir\, performing at celebrations county-wide and at venues at New Yorkâ€™s Carnegie Hall\, atÂ  Judy Chicagoâ€™s Dinner Party exhibit at the Armand Hammer Museum in Los Angeles\, and at pre-Olympic celebrations in and around London in 2012.</p><p>Â </p><p>Join them at Matheson Performing Arts Center in Mendocino for a journey through a wide spectrum of music that touches both heart and funny bone.</p><p>Â </p><p>Words and music by Steve Martin\, Pharrell Williams\, Emily Dickinson\, Lorde\, Mama Cass\, along with Bollywood\, African chant\, Rockâ€™nâ€™ Roll\, ukuleles\, and jazz will delight and keep the toes tapping.</p><p>Musical director Cynthia Frank\, accompanist Marie-Claire Dizin\, percussionist Claudia Paige and refreshments by Robert Golemanâ€™s Bolliverâ€™s fill out an extraordinary experience.</p><p>Â </p><p>Performances are Thursday April 23 and Friday April 24<sup>th</sup> at 8 pm and Saturday April 25<sup>th</sup> at 2 pm and 8 pm.</p><p>Â </p><p>Advance tickets at Harvest Market in Fort Bragg and Silver &amp\; Stone on Main Street in Mendocino.</p><p>Â </p><p>Shows are usually sold out early.</p><p>Â </p><p>General admission (12 and up): $15.00</p><p>Seniors (65+) $10.00</p><p>Children under 12 $5.00</p><p>Â </p><p>For more information\, please call 707-964-3752.</p><p>Â </p><p>For more information about the choir\, please visitÂ <a href="http://www.mendocinowomenschoir.org/">www.mendocinowomenschoir.org</a> or our FaceBook page.</p>
LOCATION:Matheson Performing Arts Center Mendocino
UID:e.2883.598
SEQUENCE:3
DTSTAMP:20260422T115341Z
URL:https://mendocinocoast.com/events/details/concert-with-mendocino-women-s-choir-04-10-2015-598
END:VEVENT

END:VCALENDAR
