BEGIN:VCALENDAR
VERSION:2.0
PRODID:-//ChamberMaster//Event Calendar 2.0//EN
METHOD:PUBLISH
X-PUBLISHED-TTL:P3D
REFRESH-INTERVAL:P3D
CALSCALE:GREGORIAN
BEGIN:VEVENT
DTSTART:20150128T040000Z
DTEND:20150128T054500Z
X-MICROSOFT-CDO-ALLDAYEVENT:FALSE
SUMMARY:Company Store concert
DESCRIPTION:Danny Barca in Concert in the Company Store\, 301 North Main Street\, Fort Bragg.$10 donation\, 7:00 - 8:45 pm
X-ALT-DESC;FMTTYPE=text/html:<p>Danny Barca in Concert in the Company Store\, 301 North Main Street\, Fort Bragg.</p><p>$10 donation\, 7:00 - 8:45 pm</p>
LOCATION:Company Store Fort Bragg\, CA
UID:e.2883.479
SEQUENCE:3
DTSTAMP:20260422T163615Z
URL:https://mendocinocoast.com/events/details/company-store-concert-01-27-2015-479
END:VEVENT

END:VCALENDAR
