BEGIN:VCALENDAR
VERSION:2.0
PRODID:-//ChamberMaster//Event Calendar 2.0//EN
METHOD:PUBLISH
X-PUBLISHED-TTL:P3D
REFRESH-INTERVAL:P3D
CALSCALE:GREGORIAN
BEGIN:VEVENT
DTSTART:20150723T170000Z
DTEND:20150724T000100Z
X-MICROSOFT-CDO-ALLDAYEVENT:FALSE
SUMMARY:Color- Oil on Canvas by Rosemary Allen
DESCRIPTION:PARTNERS GALLERYâ€œCOLORâ€OILS ON CANVAS BY ROSEMARY ALLENÂ August 6 â€“ 30\, 2015First Friday Reception August 7. Wine is provided by Balo Vineyards.Â In August Rosemary Allen is showing a new body of work at the Partners Gallery. Her emphasis this year is Color. Using gestural abstraction brushstrokes\, she keeps oil pigments flowing on the canvas\, maintaining simplicity in the compositions as much as possible so that the color itself stars as the subject. Pushing the intensity of the pigments and at the same time keeping them from being too loud is the challenge she has given herself.â€œ I feel like I am taming tigers!â€ she says of her work. â€œWhen any of them refuse to be tamed\, I paint over them and start again.â€Â Partners Gallery is located at 335N. Franklin Street in Fort Bragg and is open Wednesday through Monday 10 am to 5 pm and Sundays 10 am to 4 pm.707 962-0233Â  http://www.partnersgallery.com
X-ALT-DESC;FMTTYPE=text/html:<p>PARTNERS GALLERY</p><p>â€œCOLORâ€</p><p>OILS ON CANVAS BY ROSEMARY ALLEN</p><p>Â </p><p>August 6 â€“ 30\, 2015</p><p>First Friday Reception August 7. Wine is provided by Balo Vineyards.</p><p>Â </p><p>In August Rosemary Allen is showing a new body of work at the Partners Gallery. Her emphasis this year is Color. Using gestural abstraction brushstrokes\, she keeps oil pigments flowing on the canvas\, maintaining simplicity in the compositions as much as possible so that the color itself stars as the subject. Pushing the intensity of the pigments and at the same time keeping them from being too loud is the challenge she has given herself.</p><p>â€œ I feel like I am taming tigers!â€ she says of her work. â€œWhen any of them refuse to be tamed\, I paint over them and start again.â€</p><p>Â </p><p>Partners Gallery is located at 335N. Franklin Street in Fort Bragg and is open Wednesday through Monday 10 am to 5 pm and Sundays 10 am to 4 pm.</p><p>707 962-0233Â  <a href="http://www.partnersgallery.com">http://www.partnersgallery.com</a>&gt\;</p>
LOCATION:Partners Gallery Fort Bragg
UID:e.2883.690
SEQUENCE:3
DTSTAMP:20260422T064706Z
URL:https://mendocinocoast.com/events/details/color-oil-on-canvas-by-rosemary-allen-07-23-2015-690
END:VEVENT

END:VCALENDAR
