BEGIN:VCALENDAR
VERSION:2.0
PRODID:-//ChamberMaster//Event Calendar 2.0//EN
METHOD:PUBLISH
X-PUBLISHED-TTL:P3D
REFRESH-INTERVAL:P3D
CALSCALE:GREGORIAN
BEGIN:VEVENT
DTSTART:20150202T210000Z
DTEND:20150203T030000Z
X-MICROSOFT-CDO-ALLDAYEVENT:FALSE
SUMMARY:College of the Redwoods_Sign up for classes
DESCRIPTION:Thursday\, February 5th will be an important day for you if planning college classes this spring at Mendocino College Coast Center in Fort Bragg. Starting at noon the following will be available\; Application/Registration Assistance\, Assessment\, Assessments\, Bookstore Services Bilingual Assistance will be available until 4. For Disability Resource Center Counseling\, make an appointment by calling 468.3031.From 3 to 6 itâ€™s a free BBQ\, come meet students\, staff and facultyDate:February 5Time:12:00 pm - 6:00 pmEvent Category:CommunityVenueCollege of the Redwoods Mendocino Coast Center1211 Del Mar Drive\, Fort Bragg\, CA 95437United States\nPhone:707-962-2600Website:http://www.mendocino.edu/
X-ALT-DESC;FMTTYPE=text/html:<p>Thursday\, February 5th will be an important day for you if planning college classes this spring at Mendocino College Coast Center in Fort Bragg. Starting at noon the following will be available\; Application/Registration Assistance\, Assessment\, Assessments\, Bookstore Services Bilingual Assistance will be available until 4. For Disability Resource Center Counseling\, make an appointment by calling 468.3031.From 3 to 6 itâ€™s a free BBQ\, come meet students\, staff and faculty</p><div><dl><dt>Date:</dt><dd><abbr title="2015-02-05">February 5</abbr></dd><dt>Time:</dt><dd><abbr title="2015-02-05">12:00 pm - 6:00 pm</abbr></dd><dt>Event Category:</dt><dd><a rel="tag" href="http://www.kozt.com/calendar/category/community/" target="_blank">Community</a></dd></dl></div><div><h3>Venue</h3><dl><dd><a href="http://www.kozt.com/venue/college-of-the-redwoods-mendocino-coast-center/" target="_blank">College of the Redwoods Mendocino Coast Center</a></dd><dd><address><span><span>1211 Del Mar Drive</span><span>\,</span> <span>Fort Bragg</span><span>\,</span> <abbr title="California">CA</abbr> <span>95437</span><span>United States</span></span></address><address><br /></address><address><span style="font-style: normal\;">Phone:</span></address></dd><dd>707-962-2600</dd><dt>Website:</dt><dd><a href="http://www.mendocino.edu/" target="_blank">http://www.mendocino.edu/</a></dd></dl></div>
LOCATION:College of the Redwoods Fort Bragg CA
UID:e.2883.490
SEQUENCE:3
DTSTAMP:20260422T151249Z
URL:https://mendocinocoast.com/events/details/college-of-the-redwoods_sign-up-for-classes-02-02-2015-490
END:VEVENT

END:VCALENDAR
