BEGIN:VCALENDAR
VERSION:2.0
PRODID:-//ChamberMaster//Event Calendar 2.0//EN
METHOD:PUBLISH
X-PUBLISHED-TTL:P3D
REFRESH-INTERVAL:P3D
CALSCALE:GREGORIAN
BEGIN:VEVENT
DTSTART:20160421T170000Z
DTEND:20160422T000000Z
X-MICROSOFT-CDO-ALLDAYEVENT:FALSE
SUMMARY:Cocktail Party": Drawings by Carolyn Schneider
DESCRIPTION:Â COCKTAIL PARTYDRAWINGS IN CHARCOAL AND PASTEL BY CAROLYN SCHNEIDERÂ MAY 5 â€“ 30FIRST FRIDAY RECEPTION MAY 6\, 5-8PMÂ In May at Partners Gallery\, Carolyn Schneider is showing a new series in charcoal and pastel on handmade paper called â€œCocktail Party.â€Â Schneider describes the work thus:Â  â€œThe Cocktail Party Effect is the ability to focus on one conversation in the midst of so many\, even if its brief.Â  I wanted my characters to be at gathering places and parties\, connecting or waiting for the Cocktail Party Effect to kick in.â€Â Partners Gallery is located at 335N. Franklin Street in Fort Bragg and is open Wednesday through Monday 10 am to 5 pm and Sundays 10 am to 4 pm.707 962-0233Â  http://www.partnersgallery.com
X-ALT-DESC;FMTTYPE=text/html:<p>Â </p><p>COCKTAIL PARTY</p><p>DRAWINGS IN CHARCOAL AND PASTEL BY CAROLYN SCHNEIDER</p><p>Â </p><p>MAY 5 â€“ 30</p><p>FIRST FRIDAY RECEPTION MAY 6\, 5-8PM</p><p>Â </p><p>In May at Partners Gallery\, Carolyn Schneider is showing a new series in charcoal and pastel on handmade paper called â€œCocktail Party.â€</p><p>Â </p><p>Schneider describes the work thus:Â  â€œThe Cocktail Party Effect is the ability to focus on one conversation in the midst of so many\, even if its brief.Â  I wanted my characters to be at gathering places and parties\, connecting or waiting for the Cocktail Party Effect to kick in.â€</p><p>Â </p><p>Partners Gallery is located at 335N. Franklin Street in Fort Bragg and is open Wednesday through Monday 10 am to 5 pm and Sundays 10 am to 4 pm.</p><p>707 962-0233Â  <a href="http://www.partnersgallery.com">http://www.partnersgallery.com</a>&gt\;</p>
LOCATION:Partners Gallery Fort Bragg\, CA
UID:e.2883.914
SEQUENCE:3
DTSTAMP:20260421T155006Z
URL:https://mendocinocoast.com/events/details/cocktail-party-drawings-by-carolyn-schneider-04-21-2016-914
END:VEVENT

END:VCALENDAR
