BEGIN:VCALENDAR
VERSION:2.0
PRODID:-//ChamberMaster//Event Calendar 2.0//EN
METHOD:PUBLISH
X-PUBLISHED-TTL:P3D
REFRESH-INTERVAL:P3D
CALSCALE:GREGORIAN
BEGIN:VEVENT
DTSTART:20150415T200000Z
DTEND:20150415T220000Z
X-MICROSOFT-CDO-ALLDAYEVENT:FALSE
SUMMARY:Clean and Green Machines Car Reception @ the Beachcomber
DESCRIPTION:Celebrate at the Beachcomber Motel & Spaâ€™s Party for the Planet!! Delicious light fare will be served for our special Electric Wheels Menu and Frey Vineyards\, the first Organic Winery\, will be serving their #1 Organic Wines! Great Raf- fle items! Grand Prize of a â€œFree Room Nightâ€! The owners of Electric and Hybrid â€œsustainableâ€ cars will receive free entry to the event! Have fun while charging your sustainable car at Beachcomberâ€™s electric car charging station! $15/ person\; $25/couple. 1-3 pm. 1111 Main Street\, Fort Bragg. 1.800.400.7873www.thebeachcombermotel.com
X-ALT-DESC;FMTTYPE=text/html:<p>Celebrate at the Beachcomber Motel &amp\; Spaâ€™s Party for the Planet!! Delicious light fare will be served for our special Electric Wheels Menu and Frey Vineyards\, the first Organic Winery\, will be serving their #1 Organic Wines! Great Raf- fle items! Grand Prize of a â€œFree Room Nightâ€! The owners of Electric and Hybrid â€œsustainableâ€ cars will receive free entry to the event! Have fun while charging your sustainable car at Beachcomberâ€™s electric car charging station! $15/ person\; $25/couple. 1-3 pm. 1111 Main Street\, Fort Bragg. 1.800.400.7873</p><p><a href="http://www.thebeachcombermotel.com" target="_blank">www.thebeachcombermotel.com</a></p>
LOCATION:Beachcomber Motel1 Fort Bragg\, CA
UID:e.2883.603
SEQUENCE:3
DTSTAMP:20260422T115218Z
URL:https://mendocinocoast.com/events/details/clean-and-green-machines-car-reception-the-beachcomber-04-15-2015-603
END:VEVENT

END:VCALENDAR
