BEGIN:VCALENDAR
VERSION:2.0
PRODID:-//ChamberMaster//Event Calendar 2.0//EN
METHOD:PUBLISH
X-PUBLISHED-TTL:P3D
REFRESH-INTERVAL:P3D
CALSCALE:GREGORIAN
BEGIN:VEVENT
DTSTART:20150128T190000Z
DTEND:20150128T210000Z
X-MICROSOFT-CDO-ALLDAYEVENT:FALSE
SUMMARY:Classes at the Botanical Gardens\, 'Interacting with Insects commonly found in Coastal Gardens'
DESCRIPTION:Interacting with Insects commonly found in Coastal Gardens with Jan O. Washburn\, Ph.D.\nSaturday\, February 21\, 10 am - 12 pmAt the Gardens Meeting room\, Mendocino Coast Botanical Gardens.For more information\, go to http://www.gardenbythesea.org/education/workshops/interacting-with-insects/
X-ALT-DESC;FMTTYPE=text/html:<p>Interacting with Insects commonly found in Coastal Gardens with Jan O. Washburn\, Ph.D.<br />Saturday\, February 21\, 10 am - 12 pm</p><p>At the Gardens Meeting room\, Mendocino Coast Botanical Gardens.</p><p>For more information\, go to <a href="http://www.gardenbythesea.org/education/workshops/interacting-with-insects/" target="_blank">http://www.gardenbythesea.org/education/workshops/interacting-with-insects/</a></p>
LOCATION:Mendocino Coast Botanical Gardens Fort Bragg\, CA
UID:e.2883.458
SEQUENCE:3
DTSTAMP:20260422T163934Z
URL:https://mendocinocoast.com/events/details/classes-at-the-botanical-gardens-interacting-with-insects-commonly-found-in-coastal-gardens-01-28-2015-458
END:VEVENT

END:VCALENDAR
