BEGIN:VCALENDAR
VERSION:2.0
PRODID:-//ChamberMaster//Event Calendar 2.0//EN
METHOD:PUBLISH
X-PUBLISHED-TTL:P3D
REFRESH-INTERVAL:P3D
CALSCALE:GREGORIAN
BEGIN:VEVENT
DTSTART:20140129T030000Z
DTEND:20140128T083000Z
X-MICROSOFT-CDO-ALLDAYEVENT:FALSE
SUMMARY:Cioppino Dinner ~ A Benefit for Mendocino Coast Clinics!
DESCRIPTION:"Succulent\n Dungeness Crab\, donated by Caito Fisheries\, fills the giant Cioppino pot with\n seafood and shellfish! Served family-style by MCC staff\, dinner includes CafÃ©\n Beaujolaisâ€™ bread\, tossed salad\, dessert\, locally roasted Thanksgiving\n Coffee\, bibs & plenty of napkins! Treat yourself to Mendocino County\n wines & North Coast Brewing Company beer in the Crabby Bar! Silent\n Auction & Raffle! At MCC\, your contribution makes a difference. Proceeds\n from the 2014 â€œPass the Crab Canâ€ are dedicated to the establishment of a\n Health & Wellness Program at MCC\, focusing on building a health community\n for all coastal residents. At Mendocino Coast Clinics\, Itâ€™s about Health!\n Indulge in the Bounty of Mendocino County\, as you raise a glass and raise\n funds for the only not-for-profit community health center on the North Coast.\n\n 961-3463 http://mccinc.org
X-ALT-DESC;FMTTYPE=text/html:<p><br /><br /><br /><br /> <br /><br /><br /></p><table border="0" cellspacing="0" cellpadding="0" width="568"><colgroup><col width="568"></col></colgroup> <tbody><tr height="17"><td width="568" height="17"><p>"Succulent<br /> Dungeness Crab\, donated by Caito Fisheries\, fills the giant Cioppino pot with<br /> seafood and shellfish! Served family-style by MCC staff\, dinner includes CafÃ©<br /> Beaujolaisâ€™ bread\, tossed salad\, dessert\, locally roasted Thanksgiving<br /> Coffee\, bibs &amp\; plenty of napkins! Treat yourself to Mendocino County<br /> wines &amp\; North Coast Brewing Company beer in the Crabby Bar! Silent<br /> Auction &amp\; Raffle! At MCC\, your contribution makes a difference. Proceeds<br /> from the 2014 â€œPass the Crab Canâ€ are dedicated to the establishment of a<br /> Health &amp\; Wellness Program at MCC\, focusing on building a health community<br /> for all coastal residents. At Mendocino Coast Clinics\, Itâ€™s about Health!<br /> Indulge in the Bounty of Mendocino County\, as you raise a glass and raise<br /> funds for the only not-for-profit community health center on the North Coast.<br /><br /></p><table border="0" cellspacing="0" cellpadding="0" width="242"><colgroup><col width="242"></col></colgroup> <tbody><tr height="17"><td width="242" height="17"><p>961-3463</p><table border="0" cellspacing="0" cellpadding="0" width="568"><colgroup><col width="568"></col></colgroup> <tbody><tr height="17"><td width="568" height="17">http://mccinc.org</td></tr></tbody></table></td></tr></tbody></table></td></tr></tbody></table>
LOCATION:Historic Pentecost Hall 822 Stewart Steet\, FB
UID:e.2883.90
SEQUENCE:3
DTSTAMP:20260423T145303Z
URL:https://mendocinocoast.com/events/details/cioppino-dinner-a-benefit-for-mendocino-coast-clinics-01-28-2014-90
END:VEVENT

END:VCALENDAR
