BEGIN:VCALENDAR
VERSION:2.0
PRODID:-//ChamberMaster//Event Calendar 2.0//EN
METHOD:PUBLISH
X-PUBLISHED-TTL:P3D
REFRESH-INTERVAL:P3D
CALSCALE:GREGORIAN
BEGIN:VEVENT
DTSTART:20150128T194500Z
DTEND:20150128T210000Z
X-MICROSOFT-CDO-ALLDAYEVENT:FALSE
SUMMARY:Children's Parade for the 2015 Chinese New Year
DESCRIPTION:The Children's Parade for the 2015 Chinese New Year is set for Thursday\, Feb 12\, beginning at 10:45 am. The parade starts in Mendocino on the corner of Ukiah and Lansing streets\, goes down to Main Street\, then up Kasten to Albion Street. We end by walking throgh the Chinese Temple Kwan Tai.More than 400 children marched in the parade last year\, dressed in bright colors and costumes\, carrying banners\, dragons\, noise makers and artwork! The streets were lined with children and adults cheering us on. It's the year of the sheep!
X-ALT-DESC;FMTTYPE=text/html:<p>The Children's Parade for the 2015 Chinese New Year is set for Thursday\, Feb 12\, beginning at 10:45 am. The parade starts in Mendocino on the corner of Ukiah and Lansing streets\, goes down to Main Street\, then up Kasten to Albion Street. We end by walking throgh the Chinese Temple Kwan Tai.</p><p>More than 400 children marched in the parade last year\, dressed in bright colors and costumes\, carrying banners\, dragons\, noise makers and artwork! The streets were lined with children and adults cheering us on. It's the year of the sheep!</p>
LOCATION:From corner of Ukiah and Lansing Streets Mendocino\, CA
UID:e.2883.462
SEQUENCE:3
DTSTAMP:20260422T164041Z
URL:https://mendocinocoast.com/events/details/children-s-parade-for-the-2015-chinese-new-year-01-28-2015-462
END:VEVENT

END:VCALENDAR
