BEGIN:VCALENDAR
VERSION:2.0
PRODID:-//ChamberMaster//Event Calendar 2.0//EN
METHOD:PUBLISH
X-PUBLISHED-TTL:P3D
REFRESH-INTERVAL:P3D
CALSCALE:GREGORIAN
BEGIN:VEVENT
DTSTART:20150115T190000Z
DTEND:20150115T210000Z
X-MICROSOFT-CDO-ALLDAYEVENT:FALSE
SUMMARY:Chickens 101 Workshop at Botanical Gardens
DESCRIPTION:Chickens 101 Workshop Longtime local gardener and educator Ben Nicholson presents a workshop on Chickens 101.Everything you need to get started raising chickens. $20 General/$10 Member Price.10 a.m. to noon in the Gardens Meeting Room. 18220 Hwy 1\, Fort Bragg. 707.964.4352 ext: 16. www.gardenbythesea.org
X-ALT-DESC;FMTTYPE=text/html:<p><strong>Chickens 101 Workshop </strong>Longtime local gardener and educator Ben Nicholson presents a workshop on Chickens 101.Everything you need to get started raising chickens. $20 General/$10 Member Price.10 a.m. to noon in the Gardens Meeting Room. 18220 Hwy 1\, Fort Bragg. 707.964.4352 ext: 16. www.gardenbythesea.org</p>
LOCATION:Mendocino Coast Botanical Gardens Fort Bragg
UID:e.2883.441
SEQUENCE:3
DTSTAMP:20260422T163517Z
URL:https://mendocinocoast.com/events/details/chickens-101-workshop-at-botanical-gardens-01-15-2015-441
END:VEVENT

END:VCALENDAR
