BEGIN:VCALENDAR
VERSION:2.0
PRODID:-//ChamberMaster//Event Calendar 2.0//EN
METHOD:PUBLISH
X-PUBLISHED-TTL:P3D
REFRESH-INTERVAL:P3D
CALSCALE:GREGORIAN
BEGIN:VEVENT
DTSTART:20140118T210000Z
DTEND:20140118T230000Z
X-MICROSOFT-CDO-ALLDAYEVENT:FALSE
SUMMARY:Chickens 101 Part 1 & 2
DESCRIPTION:Interested in bringing some feather friends into your garden? Master Gardener Ben Nicholson will get you started. Join Master Gardener Ben Nicholson for a two part series that looks at getting started with chickens in your backyard. Topics to be covered include buying chicks verses incubating and hatching eggs\, chicken breeds\, coop design\, feeding and watering\, egg laying\, diseases\, predators and pests\, and local chicken laws and ordinances. Class size may be limited\, call 707-964-4352 ext 16 to reserve your space.
X-ALT-DESC;FMTTYPE=text/html:<p>Interested in bringing some feather friends into your garden? Master Gardener Ben Nicholson will get you started. Join Master Gardener Ben Nicholson for a two part series that looks at getting started with chickens in your backyard. Topics to be covered include buying chicks verses incubating and hatching eggs\, chicken breeds\, coop design\, feeding and watering\, egg laying\, diseases\, predators and pests\, and local chicken laws and ordinances. Class size may be limited\, call 707-964-4352 ext 16 to reserve your space.</p>
LOCATION:MCBG Meeting Room Mendocino
UID:e.2883.43
SEQUENCE:3
DTSTAMP:20260423T144803Z
URL:https://mendocinocoast.com/events/details/chickens-101-part-1-2-01-18-2014-43
END:VEVENT

END:VCALENDAR
