BEGIN:VCALENDAR
VERSION:2.0
PRODID:-//ChamberMaster//Event Calendar 2.0//EN
METHOD:PUBLISH
X-PUBLISHED-TTL:P3D
REFRESH-INTERVAL:P3D
CALSCALE:GREGORIAN
BEGIN:VEVENT
DTSTART:20150205T015000Z
DTEND:20150205T005000Z
X-MICROSOFT-CDO-ALLDAYEVENT:FALSE
SUMMARY:Cherishing the Land - A Mendocino Eco Artists Show
DESCRIPTION:Join the Mendocio Eco Artists for their 'Cherishing the Land' show opening reception at Glendeven Inn on Saturday\, February 21st from 7-8:30 pm. Proceeds from the sales of this show will benefit the Mendocino Land Trust. The show will be on display from February 2nd until April 27th
X-ALT-DESC;FMTTYPE=text/html:<p>Join the Mendocio Eco Artists for their 'Cherishing the Land' show opening reception at Glendeven Inn on Saturday\, February 21st from 7-8:30 pm. Proceeds from the sales of this show will benefit the Mendocino Land Trust. The show will be on display from February 2nd until April 27th</p>
LOCATION:Glendeven Inn Mendocino
UID:e.2883.498
SEQUENCE:3
DTSTAMP:20260422T151555Z
URL:https://mendocinocoast.com/events/details/cherishing-the-land-a-mendocino-eco-artists-show-02-04-2015-498
END:VEVENT

END:VCALENDAR
