BEGIN:VCALENDAR
VERSION:2.0
PRODID:-//ChamberMaster//Event Calendar 2.0//EN
METHOD:PUBLISH
X-PUBLISHED-TTL:P3D
REFRESH-INTERVAL:P3D
CALSCALE:GREGORIAN
BEGIN:VEVENT
DTSTART:20141102T190000Z
DTEND:20141103T010000Z
X-MICROSOFT-CDO-ALLDAYEVENT:FALSE
SUMMARY:Ceramic Sale and Bake Sale\, too!
DESCRIPTION:Some of the best ceramic artists on the Mendocino Coast are having a sale to benefit the Fort Bragg Grange. A wide range of ceramics from functional toÂ sculptural\, as well as ceramic jewelry will be for sale. There will also be a raffle of selected works and a bake sale. Coffee\, tea\, and milk will also be available.
X-ALT-DESC;FMTTYPE=text/html:<p><span style="font-size:small\;">Some of the best ceramic artists on the Mendocino Coast are having a sale to benefit the Fort Bragg Grange. A wide range of ceramics from functional toÂ sculptural\, as well as ceramic jewelry will be for sale. There will also be a raffle of selected works and a bake sale. Coffee\, tea\, and milk will also be available.</span></p>
LOCATION:Fort Bragg Grange
UID:e.2883.370
SEQUENCE:3
DTSTAMP:20260422T195939Z
URL:https://mendocinocoast.com/events/details/ceramic-sale-and-bake-sale-too-11-02-2014-370
END:VEVENT

END:VCALENDAR
