BEGIN:VCALENDAR
VERSION:2.0
PRODID:-//ChamberMaster//Event Calendar 2.0//EN
METHOD:PUBLISH
X-PUBLISHED-TTL:P3D
REFRESH-INTERVAL:P3D
CALSCALE:GREGORIAN
BEGIN:VEVENT
DTSTART:20140315T043000Z
DTEND:20140315T070000Z
X-MICROSOFT-CDO-ALLDAYEVENT:FALSE
SUMMARY:CD release concert and reception
DESCRIPTION:Instrumental music from Acoustic Serenades third CD Migration will be featured
X-ALT-DESC;FMTTYPE=text/html:<p>Instrumental music from Acoustic Serenades third CD Migration will be featured</p>
LOCATION:Weller House Mendocino
UID:e.2883.42
SEQUENCE:3
DTSTAMP:20260423T113439Z
URL:https://mendocinocoast.com/events/details/cd-release-concert-and-reception-03-14-2014-42
END:VEVENT

END:VCALENDAR
