BEGIN:VCALENDAR
VERSION:2.0
PRODID:-//ChamberMaster//Event Calendar 2.0//EN
METHOD:PUBLISH
X-PUBLISHED-TTL:P3D
REFRESH-INTERVAL:P3D
CALSCALE:GREGORIAN
BEGIN:VEVENT
DTSTART:20150128T210000Z
DTEND:20150128T230000Z
X-MICROSOFT-CDO-ALLDAYEVENT:FALSE
SUMMARY:Caspar Winter Market
DESCRIPTION:The farmers market moves indoors to the Caspar Community Center each Wednesday from noon to 2pm.At Caspar Community Center\, 15051 Caspar Road\, Caspar\; 12 - 2 pm.
X-ALT-DESC;FMTTYPE=text/html:<p>The farmers market moves indoors to the Caspar Community Center each Wednesday from noon to 2pm.</p><p>At Caspar Community Center\, 15051 Caspar Road\, Caspar\; 12 - 2 pm.</p>
LOCATION:Caspar Community Center Caspar\, CA
UID:e.2883.470
SEQUENCE:3
DTSTAMP:20260422T163608Z
URL:https://mendocinocoast.com/events/details/caspar-winter-market-01-28-2015-470
END:VEVENT

END:VCALENDAR
