BEGIN:VCALENDAR
VERSION:2.0
PRODID:-//ChamberMaster//Event Calendar 2.0//EN
METHOD:PUBLISH
X-PUBLISHED-TTL:P3D
REFRESH-INTERVAL:P3D
CALSCALE:GREGORIAN
BEGIN:VEVENT
DTSTART;VALUE=DATE:20160412
DTEND;VALUE=DATE:20160413
TRANSP:TRANSPARENT
X-MICROSOFT-CDO-ALLDAYEVENT:TRUE
SUMMARY:Caspar UkeFest Concert
DESCRIPTION:An evening concert is scheduled to highlight the Grand Finale of the Fifth Annual Caspar UkeFest. Performers include "Ode to Joy" ensemble workshop students\, The Ukeholics and The Ukeladies and duo Pattie and Janna in the first set\, with Del Rey headlining the second set. Price of admission is $15 at the door or will be included in the all-day festival pass. \n\nFrom her first gig at the San Diego Folk festival in 1974\, to her world travels today\, Del Rey has played music that is slightly nostalgic\, but fresh and thoughtful. http://delreyplays.com/"Whilst known for her amazing instrumental skills ... it should not be overlooked that she always provides a very entertaining show\, full of variety\, drama and humour."Â Â  Blues In Britain \n\nTickets are available by email pattied@mcn.org and by phone at 707 937-1732 and online at\nhttp://www.brownpapertickets.com/event/2530064\nCaspar Community Center is at 15051 Caspar Rd\, Caspar.\nMore updated info http://www.mendocinostories.com/UkeFest.html
X-ALT-DESC;FMTTYPE=text/html:<p><span style="font-size:small\;">An evening concert is scheduled to highlight the Grand Finale of the Fifth Annual Caspar UkeFest. Performers include "Ode to Joy" ensemble workshop students\, The Ukeholics and The Ukeladies and duo Pattie and Janna in the first set\, with Del Rey headlining the second set. Price of admission is $15 at the door or will be included in the all-day festival pass. </span><br /><br /><span style="font-size:small\;">From her first gig at the San Diego Folk festival in 1974\, to her world travels today\, Del Rey has played music that is slightly nostalgic\, but fresh and thoughtful. <span style="font-size:small\;">http://delreyplays.com/</span></span></p><p><span style="font-size:small\;">"Whilst known for her amazing instrumental skills ... it should not be overlooked that she always provides a very entertaining show\, full of variety\, drama and humour."Â Â  Blues In Britain </span><br /><br /><span style="font-size:small\;">Tickets are available by email pattied@mcn.org and by phone at 707 937-1732 and online at</span><br /><span style="font-size:small\;">http://www.brownpapertickets.com/event/2530064</span><br /><span style="font-size:small\;">Caspar Community Center is at 15051 Caspar Rd\, Caspar.</span><br /><span style="font-size:small\;">More updated info http://www.mendocinostories.com/UkeFest.html</span></p>
LOCATION:Caspar Community Center
UID:e.2883.910
SEQUENCE:3
DTSTAMP:20260421T154005Z
URL:https://mendocinocoast.com/events/details/caspar-ukefest-concert-04-12-2016-910
END:VEVENT

END:VCALENDAR
