BEGIN:VCALENDAR
VERSION:2.0
PRODID:-//ChamberMaster//Event Calendar 2.0//EN
METHOD:PUBLISH
X-PUBLISHED-TTL:P3D
REFRESH-INTERVAL:P3D
CALSCALE:GREGORIAN
BEGIN:VEVENT
DTSTART:20141231T050000Z
DTEND:20141231T085600Z
X-MICROSOFT-CDO-ALLDAYEVENT:FALSE
SUMMARY:Caspar New Year's Eve Dance
DESCRIPTION:The Swing Doctors have been chosen to play at this yearâ€™s New Years Eve Party at the Caspar Community Center. Along with great appetizers and a beer\, wine and champagne bar it is bound to be a fun way to celebrate. Tickets will be available at the door for $20.
X-ALT-DESC;FMTTYPE=text/html:<p>The Swing Doctors have been chosen to play at this yearâ€™s New Years Eve Party at the Caspar Community Center. Along with great appetizers and a beer\, wine and champagne bar it is bound to be a fun way to celebrate. Tickets will be available at the door for $20.</p>
LOCATION:Caspar Community Center
UID:e.2883.421
SEQUENCE:3
DTSTAMP:20260422T194024Z
URL:https://mendocinocoast.com/events/details/caspar-new-year-s-eve-dance-12-30-2014-421
END:VEVENT

END:VCALENDAR
