BEGIN:VCALENDAR
VERSION:2.0
PRODID:-//ChamberMaster//Event Calendar 2.0//EN
METHOD:PUBLISH
X-PUBLISHED-TTL:P3D
REFRESH-INTERVAL:P3D
CALSCALE:GREGORIAN
BEGIN:VEVENT
DTSTART;VALUE=DATE:20140210
DTEND;VALUE=DATE:20140211
TRANSP:TRANSPARENT
X-MICROSOFT-CDO-ALLDAYEVENT:TRUE
SUMMARY:Carnival By The Sea 2014
DESCRIPTION:The Fort Bragg Lions Present....CARNIVAL BY THE SEA 2014May 29 through June 1 2014Advance Discount Tickets $20 for all day unlimited rides!Available at:Â  La Bamba\, Ft Bragg Credit Union\, Columbiâ€™s Market\, Safeway\, Harvest MarketÂ HWY 1 & HWY 20 Next to the College of the RedwoodsÂ Proceeds go towards the Fort Bragg LionsVocational Scholarship ProgramFor more info call:Â  964-2463Â
X-ALT-DESC;FMTTYPE=text/html:<p>The Fort Bragg Lions Present....</p><p>CARNIVAL BY THE SEA 2014</p><p>May 29 through June 1 2014</p><p>Advance Discount Tickets $20 for all day unlimited rides!</p><p>Available at:Â  La Bamba\, Ft Bragg Credit Union\, Columbiâ€™s Market\, Safeway\, Harvest Market</p><p>Â </p><p>HWY 1 &amp\; HWY 20 Next to the College of the Redwoods</p><p>Â </p><p>Proceeds go towards the Fort Bragg Lions</p><p>Vocational Scholarship Program</p><p>For more info call:Â  964-2463</p><p>Â </p>
LOCATION:College of The Redwood Field Hwy 1 Fort Bragg
UID:e.2883.129
SEQUENCE:3
DTSTAMP:20260423T131713Z
URL:https://mendocinocoast.com/events/details/carnival-by-the-sea-2014-02-10-2014-129
END:VEVENT

END:VCALENDAR
