BEGIN:VCALENDAR
VERSION:2.0
PRODID:-//ChamberMaster//Event Calendar 2.0//EN
METHOD:PUBLISH
X-PUBLISHED-TTL:P3D
REFRESH-INTERVAL:P3D
CALSCALE:GREGORIAN
BEGIN:VEVENT
DTSTART;VALUE=DATE:20140507
DTEND;VALUE=DATE:20140508
TRANSP:TRANSPARENT
X-MICROSOFT-CDO-ALLDAYEVENT:TRUE
SUMMARY:Carnival By The Sea
DESCRIPTION:HWY 1 & HWY 20 Next to the College of the RedwoodsMay 29 through June 1 2014Advance Discount Tickets $20 for all day unlimited rides!Available at:Â  La Bamba\, Mendo/Lake Credit Union\,La Mexicana Market and Harvest MarketProceeds go towards the Fort Bragg LionsEye Care Assistance and Vocational Scholarship ProgramsFor more info call:Â  964-2463Â
X-ALT-DESC;FMTTYPE=text/html:<p>HWY 1 &amp\; HWY 20 Next to the College of the Redwoods</p><p>May 29 through June 1 2014</p><p>Advance Discount Tickets $20 for all day unlimited rides!</p><p>Available at:Â  La Bamba\, Mendo/Lake Credit Union\,</p><p>La Mexicana Market and Harvest Market</p><p>Proceeds go towards the Fort Bragg Lions</p><p>Eye Care Assistance and Vocational Scholarship Programs</p><p>For more info call:Â  964-2463</p><p>Â </p>
LOCATION:Hwy 1 & Hwy 20 Fort Bragg
UID:e.2883.253
SEQUENCE:3
DTSTAMP:20260423T090749Z
URL:https://mendocinocoast.com/events/details/carnival-by-the-sea-05-07-2014-253
END:VEVENT

END:VCALENDAR
