BEGIN:VCALENDAR
VERSION:2.0
PRODID:-//ChamberMaster//Event Calendar 2.0//EN
METHOD:PUBLISH
X-PUBLISHED-TTL:P3D
REFRESH-INTERVAL:P3D
CALSCALE:GREGORIAN
BEGIN:VEVENT
DTSTART:20141222T043000Z
DTEND:20141222T053000Z
X-MICROSOFT-CDO-ALLDAYEVENT:FALSE
SUMMARY:Candlelit service at the Mendocino Presbyterian Church
DESCRIPTION:Candlelit service at 7:30 pm at the Mendocino Presbyterian Church
X-ALT-DESC;FMTTYPE=text/html:<p>Candlelit service at 7:30 pm at the Mendocino Presbyterian Church</p>
LOCATION:Mendocino Presbyterian Church Mendocino CA
UID:e.2883.406
SEQUENCE:3
DTSTAMP:20260422T200349Z
URL:https://mendocinocoast.com/events/details/candlelit-service-at-the-mendocino-presbyterian-church-12-21-2014-406
END:VEVENT

END:VCALENDAR
