BEGIN:VCALENDAR
VERSION:2.0
PRODID:-//ChamberMaster//Event Calendar 2.0//EN
METHOD:PUBLISH
X-PUBLISHED-TTL:P3D
REFRESH-INTERVAL:P3D
CALSCALE:GREGORIAN
BEGIN:VEVENT
DTSTART:20141204T040000Z
DTEND:20141204T053000Z
X-MICROSOFT-CDO-ALLDAYEVENT:FALSE
SUMMARY:CANCELLED: The Great Peace March\, 1986
DESCRIPTION:THIS EVENT HAS BEEN CANCELLED DUE TO WEATHER CONDITIONS. IT WILL BE RESCHEDULED IN THE SPRINGWALKING THE VISION - THE GREAT PEACE MARCH 1986Musical Multi-image Production of the Walk That Inspired AmericaJoin photographer Jacquelyn Woodward\, and fellow marcher Donna Love for a slice of modern history on the Great Peace March for Global Nuclear Disarmament. From the California desert to Washington D.C.\, we meet the people who opened their hearts and doors to the walkers. With them\, we marvel at the commitment and sheer determination of the marchers\, hundreds of ordinary people\, who believed that peace was worth the sacrifice. Jacquelyn and Donna will introduce the show and lead a discussion afterwards.Jacquelyn Woodward is a devoted peace activist and former director of several peace organizations on the Monterey Peninsula. She participated in the Great Peace March and photographed this life-changing event.Â  Donna Love is the author of 3 books written in her 80s\, including Walking for Our Lives\, which chronicles her evolution from a passive homemaker to an involved peacemaker. . Born with crippled feet\, she has walked thousands of miles for peace.This program is a benefit for the Community Center of Mendocino-Donations appreciated.
X-ALT-DESC;FMTTYPE=text/html:<p>THIS EVENT HAS BEEN CANCELLED DUE TO WEATHER CONDITIONS. IT WILL BE RESCHEDULED IN THE SPRING</p><p>WALKING THE VISION - THE GREAT PEACE MARCH 1986</p><p>Musical Multi-image Production of the Walk That Inspired America</p><p>Join photographer Jacquelyn Woodward\, and fellow marcher Donna Love for a slice of modern history on the Great Peace March for Global Nuclear Disarmament. From the California desert to Washington D.C.\, we meet the people who opened their hearts and doors to the walkers. With them\, we marvel at the commitment and sheer determination of the marchers\, hundreds of ordinary people\, who believed that peace was worth the sacrifice. Jacquelyn and Donna will introduce the show and lead a discussion afterwards.</p><p>Jacquelyn Woodward is a devoted peace activist and former director of several peace organizations on the Monterey Peninsula. She participated in the Great Peace March and photographed this life-changing event.Â  Donna Love is the author of 3 books written in her 80s\, including Walking for Our Lives\, which chronicles her evolution from a passive homemaker to an involved peacemaker. . Born with crippled feet\, she has walked thousands of miles for peace.</p><p>This program is a benefit for the Community Center of Mendocino-Donations appreciated.</p>
LOCATION:Community Center of Mendocino
UID:e.2883.386
SEQUENCE:3
DTSTAMP:20260422T182055Z
URL:https://mendocinocoast.com/events/details/cancelled-the-great-peace-march-1986-12-03-2014-386
END:VEVENT

END:VCALENDAR
