BEGIN:VCALENDAR
VERSION:2.0
PRODID:-//ChamberMaster//Event Calendar 2.0//EN
METHOD:PUBLISH
X-PUBLISHED-TTL:P3D
REFRESH-INTERVAL:P3D
CALSCALE:GREGORIAN
BEGIN:VEVENT
DTSTART:20140128T220000Z
DTEND:20140129T010100Z
X-MICROSOFT-CDO-ALLDAYEVENT:FALSE
SUMMARY:CALL TO AUDITION: Guys and Dolls\, Jr.
DESCRIPTION:Lead Roles: Must\n have strong singing voices â€“ ages 12-19 years old All other Roles: Minimum\n age: 8\n\n http://gloriana.orgÂ  707-964-SHOW\n (7469)
X-ALT-DESC;FMTTYPE=text/html:<p><br /><br /><br /><br /><br /></p><table border="0" cellspacing="0" cellpadding="0" width="568"><colgroup><col width="568"></col></colgroup> <tbody><tr height="17"><td width="568" height="17"><p>Lead Roles: Must<br /> have strong singing voices â€“ ages 12-19 years old All other Roles: Minimum<br /> age: 8<br /><br /></p><table border="0" cellspacing="0" cellpadding="0" width="568"><colgroup><col width="568"></col></colgroup> <tbody><tr height="17"><td width="568" height="17"><a href="http://gloriana.org">http://gloriana.org</a></td></tr></tbody></table><p>Â </p><table border="0" cellspacing="0" cellpadding="0" width="242"><colgroup><col width="242"></col></colgroup> <tbody><tr height="17"><td width="242" height="17">707-964-SHOW<br /> (7469)</td></tr></tbody></table></td></tr></tbody></table>
LOCATION:Fort Bregg Library Laurel Street
UID:e.2883.88
SEQUENCE:3
DTSTAMP:20260423T145324Z
URL:https://mendocinocoast.com/events/details/call-to-audition-guys-and-dolls-jr-01-28-2014-88
END:VEVENT

END:VCALENDAR
