BEGIN:VCALENDAR
VERSION:2.0
PRODID:-//ChamberMaster//Event Calendar 2.0//EN
METHOD:PUBLISH
X-PUBLISHED-TTL:P3D
REFRESH-INTERVAL:P3D
CALSCALE:GREGORIAN
BEGIN:VEVENT
DTSTART:20140128T040000Z
DTEND:20140128T070000Z
X-MICROSOFT-CDO-ALLDAYEVENT:FALSE
SUMMARY:CALL TO AUDITION: Guys and Dolls\, Jr.
DESCRIPTION:Â  "Set in Damon\n Runyon's mythical New York City\, GUYS AND DOLLS JR. introduces us to colorful\n characters who have become legends in musical theatre: Sarah Brown\, the\n upÂ¬right and uptight ""mission doll\,""\; Sky Masterson\,\n the slick\, high-rolling gambler who woos her on a bet and ends up falling in\n love\; Adelaide\, a nightclub performer whose chronic flu is brought on by the\n fact she's been engaged to the same man for 14 years\; and Nathan Detroit\, her\n devoted fiancÃ©\, desperate as always to find a spot for his infamous floating\n dice game. Add some great songs including ""Luck be A\n Lady"" and ""Sit Down\, You're Rocking the\n Boat""\, and you've got quite a musical! Seeking: Lead Roles: Must\n have strong singing voices â€“ ages 12-19 years old All other Roles: Minimum\n age: 8 "http://gloriana.orgÂ  707-964-SHOW\n (7469)
X-ALT-DESC;FMTTYPE=text/html:<p>Â </p><table border="0" cellspacing="0" cellpadding="0" width="568"><colgroup><col width="568"></col></colgroup> <tbody><tr height="17"><td width="568" height="17"><p>"Set in Damon<br /> Runyon's mythical New York City\, GUYS AND DOLLS JR. introduces us to colorful<br /> characters who have become legends in musical theatre: Sarah Brown\, the<br /> upÂ¬right and uptight ""mission doll\,""\; Sky Masterson\,<br /> the slick\, high-rolling gambler who woos her on a bet and ends up falling in<br /> love\; Adelaide\, a nightclub performer whose chronic flu is brought on by the<br /> fact she's been engaged to the same man for 14 years\; and Nathan Detroit\, her<br /> devoted fiancÃ©\, desperate as always to find a spot for his infamous floating<br /> dice game. Add some great songs including ""Luck be A<br /> Lady"" and ""Sit Down\, You're Rocking the<br /> Boat""\, and you've got quite a musical! Seeking: Lead Roles: Must<br /> have strong singing voices â€“ ages 12-19 years old All other Roles: Minimum<br /> age: 8 "</p><table border="0" cellspacing="0" cellpadding="0" width="568"><tbody><tr height="17"><td width="568" height="17">http://gloriana.org</td></tr></tbody></table><p>Â </p><table border="0" cellspacing="0" cellpadding="0" width="242"><colgroup><col width="242"></col></colgroup> <tbody><tr height="17"><td width="242" height="17">707-964-SHOW<br /> (7469)</td></tr></tbody></table></td></tr></tbody></table>
LOCATION:Fort Bragg Library Laurel Street
UID:e.2883.87
SEQUENCE:3
DTSTAMP:20260423T145325Z
URL:https://mendocinocoast.com/events/details/call-to-audition-guys-and-dolls-jr-01-27-2014-87
END:VEVENT

END:VCALENDAR
