BEGIN:VCALENDAR
VERSION:2.0
PRODID:-//ChamberMaster//Event Calendar 2.0//EN
METHOD:PUBLISH
X-PUBLISHED-TTL:P3D
REFRESH-INTERVAL:P3D
CALSCALE:GREGORIAN
BEGIN:VEVENT
DTSTART:20160305T230000Z
DTEND:20160306T020000Z
X-MICROSOFT-CDO-ALLDAYEVENT:FALSE
SUMMARY:Call for Auditions! Gloriana's Once Upon a Mattress
DESCRIPTION:Gloriana Musical Theatre "Once Upon a Mattress" Auditions! Directed by Jeffrey Grant. Show opens May 13.\nBased on the classic tale of "*The Princess and the Pea*\," this show gives a new twist on an old story. Princess after princess have tried for the hand of the Prince\, but none has been able to please his mother's standards. And since the law states no one in the kingdom shall marry before the Prince does\, everyone is eager for a Princess to pass the test! This zany musical comedy promises to be great fun for all.\n\nWe welcome all auditioners\, men and women of all skill\, aged 14 to 65+. With nine featured roles - six men and three women - plus a chorus of lords and ladies\, peasants and princesses\, and even one non-speaking\, non-singing role\, there is something for everyone.\nSaturday\, March 12 - 2-5 PM at Eagles Hall\, corner of Alder and Corry in Fort Bragg\n\nSunday\, March 13 â€“ 2-5 PM at Eagles Hall\n\nPlease fill out an audition form at gloriana.org or send an e-mail to info@gloriana.org to set up an audition.\n\nYou will be asked to prepare a Broadway song (please bring the sheet music accompaniment)\, and to read from the script provided. A script is available for check out by calling 964-7469.\n\nThe show will feature a cast of persons ranging in age from 14 to 60+. A character breakdown list is available athttp://www.gloriana.org/audition-form.
X-ALT-DESC;FMTTYPE=text/html:<p><span>Gloriana Musical Theatre "Once Upon a Mattress" Auditions! Directed by </span><span>Jeffrey Grant. Show opens </span><span><span>May 13</span></span><span>.</span></p><p><br /><span>Based on the classic tale of "*The Princess and the Pea*\," this show gives </span><span>a new twist on an old story. Princess after princess have tried for the </span><span>hand of the Prince\, but none has been able to please his mother's </span><span>standards. And since the law states no one in the kingdom shall marry </span><span>before the Prince does\, everyone is eager for a Princess to pass the test! </span><span>This zany musical comedy promises to be great fun for all.</span><br /><br /><span>We welcome all auditioners\, men and women of all skill\, aged 14 to 65+. </span><span>With nine featured roles - six men and three women - plus a chorus of lords </span><span>and ladies\, peasants and princesses\, and even one non-speaking\, non-singing </span><span>role\, there is something for everyone.</span></p><p><br /><span><span>Saturday\, March 12</span></span><span> - </span><span><span>2-5 PM</span></span><span> at Eagles Hall\, corner of Alder and Corry </span><span>in Fort Bragg</span><br /><br /><span><span>Sunday\, March 13</span></span><span> â€“ </span><span><span>2-5 PM</span></span><span> at Eagles Hall</span><br /><br /><span>Please fill out an audition form at </span><a href="http://gloriana.org/" target="_blank">gloriana.org</a><span> or send an e-mail to </span><a href="mailto:info@gloriana.org">info@gloriana.org</a><span> to set up an audition.</span><br /><br /><span>You will be asked to prepare a Broadway song (please bring the sheet music </span><span>accompaniment)\, and to read from the script provided. A script is available </span><span>for check out by calling 964-7469.</span><br /><br /><span>The show will feature a cast of persons ranging in age from 14 to 60+. A c</span><span>haracter breakdown list is available at</span><a href="http://www.gloriana.org/audition-form" target="_blank">http://www.gloriana.org/audition-form</a><span>.</span></p>
LOCATION:Eagles Hall Theatre Fort Bragg
UID:e.2883.869
SEQUENCE:3
DTSTAMP:20260421T173600Z
URL:https://mendocinocoast.com/events/details/call-for-auditions-gloriana-s-once-upon-a-mattress-03-05-2016-869
END:VEVENT

END:VCALENDAR
