BEGIN:VCALENDAR
VERSION:2.0
PRODID:-//ChamberMaster//Event Calendar 2.0//EN
METHOD:PUBLISH
X-PUBLISHED-TTL:P3D
REFRESH-INTERVAL:P3D
CALSCALE:GREGORIAN
BEGIN:VEVENT
DTSTART:20140418T220100Z
DTEND:20140418T233000Z
X-MICROSOFT-CDO-ALLDAYEVENT:FALSE
SUMMARY:Calder Quartet at Mendocino Music Festivall
DESCRIPTION:Calder QuartetMonday\, July 21\, 2014\, 3:00 PMTent Concert Hall - overlooking the Pacific OceanBenjamin Jacobson\, violin Andrew Bulbrook\, violin Jonathan Moerschel\, viola Eric Byers\, cello.  Called â€œoutstandingâ€ and â€œsuperbâ€ by the New York Times\, the Calder Quartet defies boundaries through performing a broad range of repertoire at an exceptional level\, always striving to channel the true intention of the workâ€™s creator.The quartet will play Thomas AdÃ¨s Arcadiana\, LeoÅ¡ JanÃ¡Äek String Quartet No. 2 â€œIntimate Lettersâ€\, and Franz Schubert String Quartet No.14 in D minor\, D. 810 â€œDeath and the Maiden.â€â€œWhether youâ€™re working with a rock musician\, a contemporary composer or the music of Mozart\, theyâ€™re all expressing similar emotions. Theyâ€™re using slightly different vocabulary\, theyâ€™re saying the same thing in different ways. Once you come to terms with that\, you donâ€™t feel the barriers between different genres of music.â€ Jonathan Moerschel\, Calder QuartetThe Mendocino Music Festival runs July 12 - 26.
X-ALT-DESC;FMTTYPE=text/html:Calder QuartetMonday\, July 21\, 2014\, 3:00 PMTent Concert Hall - overlooking the Pacific OceanBenjamin Jacobson\, violin Andrew Bulbrook\, violin Jonathan Moerschel\, viola Eric Byers\, cello.  Called â€œoutstandingâ€ and â€œsuperbâ€ by the New York Times\, the Calder Quartet defies boundaries through performing a broad range of repertoire at an exceptional level\, always striving to channel the true intention of the workâ€™s creator.The quartet will play Thomas AdÃ¨s Arcadiana\, LeoÅ¡ JanÃ¡Äek String Quartet No. 2 â€œIntimate Lettersâ€\, and Franz Schubert String Quartet No.14 in D minor\, D. 810 â€œDeath and the Maiden.â€â€œWhether youâ€™re working with a rock musician\, a contemporary composer or the music of Mozart\, theyâ€™re all expressing similar emotions. Theyâ€™re using slightly different vocabulary\, theyâ€™re saying the same thing in different ways. Once you come to terms with that\, you donâ€™t feel the barriers between different genres of music.â€ Jonathan Moerschel\, Calder QuartetThe Mendocino Music Festival runs July 12 - 26.
LOCATION:16\,000 square foot Tent Performance Hall Mendocino
UID:e.2883.224
SEQUENCE:3
DTSTAMP:20260423T101130Z
URL:https://mendocinocoast.com/events/details/calder-quartet-at-mendocino-music-festivall-04-18-2014-224
END:VEVENT

END:VCALENDAR
