BEGIN:VCALENDAR
VERSION:2.0
PRODID:-//ChamberMaster//Event Calendar 2.0//EN
METHOD:PUBLISH
X-PUBLISHED-TTL:P3D
REFRESH-INTERVAL:P3D
CALSCALE:GREGORIAN
BEGIN:VEVENT
DTSTART;VALUE=DATE:20150708
DTEND;VALUE=DATE:20150709
TRANSP:TRANSPARENT
X-MICROSOFT-CDO-ALLDAYEVENT:TRUE
SUMMARY:BOBFEST - The Music of Bob Dylan
DESCRIPTION:Mendocino's Premiere Concert\, the 4th Annual BobFest - The Music of Bob Dylan comes to Crown Hall\, Mendocino on Friday\, August 7 and Saturday\, August 8\, 2015. Original acoustic and electric performances by 15 stellar musicians. Two nights - same great show.Food - Bar - DancingTickets available in Mendocino at Out of This World and ICONS. In Fort Bragg at The Music Merchant (Next to Harvest Market) and online at BrownPaperTickets.com. A Benefit for The Mendocino Environmental Center.Details at bob-fest.com and Facebook BobfestStarring Steven Bates\, Bill Bottrell\, Martha Bouquin\, Rick Brumbeloe\, Lawrence Bullock\, Bob Daley\, Phill Dunn\, Jon Faurot\, Richard Fienbop\, Sheila Fetzer\, Marcus McCallen\, Nahara\, Jamie Peters\, Dr. Billy Schieve\, Sue Sisk and The Bobettes.
X-ALT-DESC;FMTTYPE=text/html:<p>Mendocino's Premiere Concert\, the 4th Annual BobFest - The Music of Bob Dylan comes to Crown Hall\, Mendocino on Friday\, August 7 and Saturday\, August 8\, 2015. Original acoustic and electric performances by 15 stellar musicians. Two nights - same great show.</p><p>Food - Bar - Dancing</p><p>Tickets available in Mendocino at Out of This World and ICONS. In Fort Bragg at The Music Merchant (Next to Harvest Market) and online at BrownPaperTickets.com. A Benefit for The Mendocino Environmental Center.</p><p>Details at bob-fest.com and Facebook Bobfest</p><p>Starring Steven Bates\, Bill Bottrell\, Martha Bouquin\, Rick Brumbeloe\, Lawrence Bullock\, Bob Daley\, Phill Dunn\, Jon Faurot\, Richard Fienbop\, Sheila Fetzer\, Marcus McCallen\, Nahara\, Jamie Peters\, Dr. Billy Schieve\, Sue Sisk and The Bobettes.</p>
LOCATION:Crown Hall Mendocino
UID:e.2883.681
SEQUENCE:3
DTSTAMP:20260422T064639Z
URL:https://mendocinocoast.com/events/details/bobfest-the-music-of-bob-dylan-07-08-2015-681
END:VEVENT

END:VCALENDAR
