BEGIN:VCALENDAR
VERSION:2.0
PRODID:-//ChamberMaster//Event Calendar 2.0//EN
METHOD:PUBLISH
X-PUBLISHED-TTL:P3D
REFRESH-INTERVAL:P3D
CALSCALE:GREGORIAN
BEGIN:VEVENT
DTSTART:20150615T170000Z
DTEND:20150615T183100Z
X-MICROSOFT-CDO-ALLDAYEVENT:FALSE
SUMMARY:Bird Fern Canyon & Blowhole Guided Hikes
DESCRIPTION:Join employees of Russian Gulch State Park at the recreation hall for the Bird Fern Canyon hike on the following Fridays this summer: (6/19\, 7/3\, 7/17\, 7/31\, 8/14\, 8/28)Join park employees and guides at Russian Gulch State Park for the Blowhole Hike at 10am at the Upper Parking Lot on the following Fridays this summer: (6/26\, 7/10\, 7/24\, 8/7\, 8/21\, 9/4)
X-ALT-DESC;FMTTYPE=text/html:<p>Join employees of Russian Gulch State Park at the recreation hall for the Bird Fern Canyon hike on the following Fridays this summer: (6/19\, 7/3\, 7/17\, 7/31\, 8/14\, 8/28)</p><p>Join park employees and guides at Russian Gulch State Park for the Blowhole Hike at 10am at the Upper Parking Lot on the following Fridays this summer: (6/26\, 7/10\, 7/24\, 8/7\, 8/21\, 9/4)</p>
LOCATION:Russian Gulch State Park Mendocino\, CA
UID:e.2883.649
SEQUENCE:3
DTSTAMP:20260422T082753Z
URL:https://mendocinocoast.com/events/details/bird-fern-canyon-blowhole-guided-hikes-06-15-2015-649
END:VEVENT

END:VCALENDAR
