BEGIN:VCALENDAR
VERSION:2.0
PRODID:-//ChamberMaster//Event Calendar 2.0//EN
METHOD:PUBLISH
X-PUBLISHED-TTL:P3D
REFRESH-INTERVAL:P3D
CALSCALE:GREGORIAN
BEGIN:VEVENT
DTSTART:20140222T043000Z
DTEND:20140222T093000Z
X-MICROSOFT-CDO-ALLDAYEVENT:FALSE
SUMMARY:Bingo Bash 2014
DESCRIPTION:Saturday\, February 22\, 2014 Mark your calendars now as this event sells out early.
X-ALT-DESC;FMTTYPE=text/html:<p>Saturday\, February 22\, 2014 Mark your calendars now as this event sells out early.</p>
LOCATION:Crown Hall\, Mendocino
UID:e.2883.40
SEQUENCE:3
DTSTAMP:20260423T131143Z
URL:https://mendocinocoast.com/events/details/bingo-bash-2014-02-21-2014-40
END:VEVENT

END:VCALENDAR
