BEGIN:VCALENDAR
VERSION:2.0
PRODID:-//ChamberMaster//Event Calendar 2.0//EN
METHOD:PUBLISH
X-PUBLISHED-TTL:P3D
REFRESH-INTERVAL:P3D
CALSCALE:GREGORIAN
BEGIN:VEVENT
DTSTART;VALUE=DATE:20150204
DTEND;VALUE=DATE:20150205
TRANSP:TRANSPARENT
X-MICROSOFT-CDO-ALLDAYEVENT:TRUE
SUMMARY:Big River Stewardship Day
DESCRIPTION:Big River Stewards Saturday\, February 28th from 10:00 am - 12:00 pm Join the Mendocino Land Trust at Big River Beach and help remove invasive plantÂ species. Dress to get dirty\, bring gloves\, water\, and a snack. Tools will be provided. We canÂ preserveÂ and protect this unique plant community\, but we need your help.Meet in the Big River parking lot\, near the bridge.Â For more information\, please contact Nicolet Houtz\, Trails and Stewardship Coordinator\,Â atÂ nhoutz@mendocinolandtrust.org or (707) 962-0470Support for this event is provided by the Matt Coleman Fund for Environmental Education and Conservation of the Community Foundation of Mendocino County
X-ALT-DESC;FMTTYPE=text/html:<p><strong>Big River Stewards </strong></p><p>Saturday\, February 28th from 10:00 am - 12:00 pm<strong> </strong></p><p>Join the Mendocino Land Trust at Big River Beach and help remove invasive plantÂ species. Dress to get dirty\, bring gloves\, water\, and a snack. Tools will be provided. We canÂ preserveÂ and protect this unique plant community\, but we need your help.</p><p>Meet in the Big River parking lot\, near the bridge.Â For more information\, please contact Nicolet Houtz\, Trails and Stewardship Coordinator\,Â atÂ <a href="mailto:nhoutz@mendocinolandtrust.org" target="_blank">nhoutz@mendocinolandtrust.org</a> or (707) 962-0470</p><p>Support for this event is provided by the Matt Coleman Fund for Environmental Education and Conservation of the Community Foundation of Mendocino County</p>
LOCATION:Big River Mendocino
UID:e.2883.497
SEQUENCE:3
DTSTAMP:20260422T150123Z
URL:https://mendocinocoast.com/events/details/big-river-stewardship-day-02-04-2015-497
END:VEVENT

END:VCALENDAR
