BEGIN:VCALENDAR
VERSION:2.0
PRODID:-//ChamberMaster//Event Calendar 2.0//EN
METHOD:PUBLISH
X-PUBLISHED-TTL:P3D
REFRESH-INTERVAL:P3D
CALSCALE:GREGORIAN
BEGIN:VEVENT
DTSTART:20140118T210000Z
DTEND:20140119T000000Z
X-MICROSOFT-CDO-ALLDAYEVENT:FALSE
SUMMARY:Big River Invasive Species Pull
DESCRIPTION:Welcome in the New Year with the Mendocino Land Trust at Big River! In honor of Matt Coleman\, we will be removing the invasive ammophila (also known as European Beach Grass) on Big River beach. Matt was dedicated to eradicating this beach grass\, which was originally a large patch that was taking over the eastern section of Big River Beach. He was able to beat it back\, but it
X-ALT-DESC;FMTTYPE=text/html:<p>Welcome in the New Year with the Mendocino Land Trust at Big River! In honor of Matt Coleman\, we will be removing the invasive ammophila (also known as European Beach Grass) on Big River beach. Matt was dedicated to eradicating this beach grass\, which was originally a large patch that was taking over the eastern section of Big River Beach. He was able to beat it back\, but it</p>
LOCATION:Big River Beach\, Mendocino
UID:e.2883.39
SEQUENCE:3
DTSTAMP:20260423T144632Z
URL:https://mendocinocoast.com/events/details/big-river-invasive-species-pull-01-18-2014-39
END:VEVENT

END:VCALENDAR
