BEGIN:VCALENDAR
VERSION:2.0
PRODID:-//ChamberMaster//Event Calendar 2.0//EN
METHOD:PUBLISH
X-PUBLISHED-TTL:P3D
REFRESH-INTERVAL:P3D
CALSCALE:GREGORIAN
BEGIN:VEVENT
DTSTART:20150115T040000Z
DTEND:20150115T060100Z
X-MICROSOFT-CDO-ALLDAYEVENT:FALSE
SUMMARY:Benefit Concert for Volunteer Fire Department at Little River Inn
DESCRIPTION:Kevin Crawford and Cillian Vallely Benefit Concert Kevin Crawford and Cillian Vallely of the Irish super group Lunasa will perform a benefit concert for the Albion Little River Volunteer Fire Department at the Little River Inn. $20 Advance/$25 at the door. 7 p.m. Abalone Hall at Little Riv-er Inn\, 7751 Hwy 1\, Little River. 707.937.5942. http://kzyx.org
X-ALT-DESC;FMTTYPE=text/html:<p><strong>Kevin Crawford and Cillian Vallely Benefit Concert </strong>Kevin Crawford and Cillian Vallely of the Irish super group Lunasa will perform a benefit concert for the Albion Little River Volunteer Fire Department at the Little River Inn. $20 Advance/$25 at the door. 7 p.m. Abalone Hall at Little Riv-er Inn\, 7751 Hwy 1\, Little River. 707.937.5942. http://kzyx.org</p>
LOCATION:Abalone Hall at Little River Inn
UID:e.2883.439
SEQUENCE:3
DTSTAMP:20260422T164107Z
URL:https://mendocinocoast.com/events/details/benefit-concert-for-volunteer-fire-department-at-little-river-inn-01-14-2015-439
END:VEVENT

END:VCALENDAR
