BEGIN:VCALENDAR
VERSION:2.0
PRODID:-//ChamberMaster//Event Calendar 2.0//EN
METHOD:PUBLISH
X-PUBLISHED-TTL:P3D
REFRESH-INTERVAL:P3D
CALSCALE:GREGORIAN
BEGIN:VEVENT
DTSTART;VALUE=DATE:20140831
DTEND;VALUE=DATE:20140901
TRANSP:TRANSPARENT
X-MICROSOFT-CDO-ALLDAYEVENT:TRUE
SUMMARY:BeatleFest 2014
DESCRIPTION:Mendocino Stories and Music Series proudly announces BeatleFest 2014\, with Beatles songs from the early yearsthrough the solo careers. Two nights of amazing music\, a collaboration of some of our favorite local musicians .Â  Acoustic opening set at 7:30PM\, followed by dance music.\n\nThe dynamic core band features Billy Schieve\, Jamie Gilliam\, Phil Dunn\, and Johnny Bush\, with Special Guests Jon Faurot \, Richard Feinbop\, Sharon Garner\, Sherry Lea Jones\, Marcus McCallen\, Sue Sisk\, Pattie DeMatteo\, Denny Lunsford\, Mark Gauche\, and more to be confirmed.The Beatles formed in Liverpool in 1960 and became widely regarded as the greatest and most influential act of the rock era. From beat and 1950s rock and roll\, they experimented with many genres\, ranging from pop ballads to psychedelic and hard rock\, incorporating classical elements in innovative ways. These true gems in our musical lives will be brought to life by local musicians\, gems in their own time.Doors open at 6PM with bistro menu and full bar. $25 reserved seat at a table\, $20 general admission theater seating\, $25 at the door if available. Tickets available now by calling 707-937-1732 and online at http://www.brownpapertickets.com/event/855714
X-ALT-DESC;FMTTYPE=text/html:<p><strong>Mendocino Stories and Music Series</strong> proudly announces <strong>BeatleFest 2014</strong>\, with Beatles songs from the early yearsthrough the solo careers. Two nights of amazing music\, a collaboration of some of our favorite local musicians .Â  Acoustic opening set at 7:30PM\, followed by dance music.<br /><br />The dynamic core band features Billy Schieve\, Jamie Gilliam\, Phil Dunn\, and Johnny Bush\, with Special Guests Jon Faurot \, Richard Feinbop\, Sharon Garner\, Sherry Lea Jones\, Marcus McCallen\, Sue Sisk\, Pattie DeMatteo\, Denny Lunsford\, Mark Gauche\, and more to be confirmed.</p><p>The Beatles formed in Liverpool in 1960 and became widely regarded as the greatest and most influential act of the rock era. From beat and 1950s rock and roll\, they experimented with many genres\, ranging from pop ballads to psychedelic and hard rock\, incorporating classical elements in innovative ways. These true gems in our musical lives will be brought to life by local musicians\, gems in their own time.Doors open at 6PM with bistro menu and full bar. $25 reserved seat at a table\, $20 general admission theater seating\, $25 at the door if available. Tickets available now by calling 707-937-1732 and online at http://www.brownpapertickets.com/event/855714<br /><br /></p>
LOCATION:Hill House of Mendocino
UID:e.2883.323
SEQUENCE:3
DTSTAMP:20260423T125654Z
URL:https://mendocinocoast.com/events/details/beatlefest-2014-08-31-2014-323
END:VEVENT

END:VCALENDAR
