BEGIN:VCALENDAR
VERSION:2.0
PRODID:-//ChamberMaster//Event Calendar 2.0//EN
METHOD:PUBLISH
X-PUBLISHED-TTL:P3D
REFRESH-INTERVAL:P3D
CALSCALE:GREGORIAN
BEGIN:VEVENT
DTSTART;VALUE=DATE:20140605
DTEND;VALUE=DATE:20140606
TRANSP:TRANSPARENT
X-MICROSOFT-CDO-ALLDAYEVENT:TRUE
SUMMARY:Bastille Day Festival
DESCRIPTION:Annual Petanque Tournament\, Flea Market & Bistro Lunch Sunday July 13 @ the Ledford House Restaurant
X-ALT-DESC;FMTTYPE=text/html:<p>Annual Petanque Tournament\, Flea Market &amp\; Bistro Lunch Sunday July 13 @ the Ledford House Restaurant</p>
LOCATION:Ledford House Restaurant Albion
UID:e.2883.277
SEQUENCE:3
DTSTAMP:20260423T065237Z
URL:https://mendocinocoast.com/events/details/bastille-day-festival-06-05-2014-277
END:VEVENT

END:VCALENDAR
