BEGIN:VCALENDAR
VERSION:2.0
PRODID:-//ChamberMaster//Event Calendar 2.0//EN
METHOD:PUBLISH
X-PUBLISHED-TTL:P3D
REFRESH-INTERVAL:P3D
CALSCALE:GREGORIAN
BEGIN:VEVENT
DTSTART:20150422T190000Z
DTEND:20150423T000000Z
X-MICROSOFT-CDO-ALLDAYEVENT:FALSE
SUMMARY:Barbecue Westport
DESCRIPTION:Westport Volunteer Fire Department Barbecue FundraiserAt Westport Headlands\, August 15\, 12-5.$10 kids\, $15 adults
X-ALT-DESC;FMTTYPE=text/html:<p>Westport Volunteer Fire Department Barbecue Fundraiser</p><p>At Westport Headlands\, August 15\, 12-5.</p><p>$10 kids\, $15 adults</p>
LOCATION:Westport Headlands
UID:e.2883.609
SEQUENCE:3
DTSTAMP:20260422T114807Z
URL:https://mendocinocoast.com/events/details/barbecue-westport-04-22-2015-609
END:VEVENT

END:VCALENDAR
