BEGIN:VCALENDAR
VERSION:2.0
PRODID:-//ChamberMaster//Event Calendar 2.0//EN
METHOD:PUBLISH
X-PUBLISHED-TTL:P3D
REFRESH-INTERVAL:P3D
CALSCALE:GREGORIAN
BEGIN:VEVENT
DTSTART:20141211T040000Z
DTEND:20141211T230000Z
X-MICROSOFT-CDO-ALLDAYEVENT:FALSE
SUMMARY:Ballet "The Nutcracker"
DESCRIPTION:The ballet "The Nutcracker" will be performed at the Cotton Auditorium in Fort Bragg on\nDec 13\, 7 p.m.\nDec 14\, 2 p.m.and at the Mendocino College Center Theatre in Ukiah onDec 9\, 7 p.m.\nDec 20\, 2 p.m. and 7 p.m.\nDec 21\, 2 p.m.Â Tickets are $20 for adults\, $18 for seniors over 65 and $10 for young adults under the age of 18.Â \nFor credit card purchases\, add $1.The tickets are available at the following places:\nUkiah:Â Mendocino Ballet andÂ The Mendocino Book Company\nWillits: Goods Stamp Shoppe\nFort Bragg:Â Pippi's Longstockings andÂ Harvest Market\nandÂ \nMendocino:Â Out of This WorldÂ For more information\, call the Mendocino Theatre at 707-463-2290.
X-ALT-DESC;FMTTYPE=text/html:<p>The ballet "The Nutcracker" will be performed at the Cotton Auditorium in Fort Bragg on<br />Dec 13\, 7 p.m.<br />Dec 14\, 2 p.m.</p><p>and at the Mendocino College Center Theatre in Ukiah on</p><p>Dec 9\, 7 p.m.<br />Dec 20\, 2 p.m. and 7 p.m.<br />Dec 21\, 2 p.m.</p><p>Â </p><p>Tickets are $20 for adults\, $18 for seniors over 65 and $10 for young adults under the age of 18.Â <br />For credit card purchases\, add $1.</p><p>The tickets are available at the following places:<br />Ukiah:Â <a href="https://www.facebook.com/Mendocino.Ballet?fref=photo">Mendocino Ballet</a> andÂ <a href="https://www.facebook.com/mendobook">The Mendocino Book Company</a><br />Willits: Goods Stamp Shoppe<br />Fort Bragg:Â <a href="https://www.facebook.com/PippiSocks">Pippi's Longstockings</a> andÂ <a href="https://www.facebook.com/pages/Harvest-Market/62613686874">Harvest Market</a><br />andÂ <br />Mendocino:Â <a href="https://www.facebook.com/ootwmendo">Out of This World</a></p><p>Â </p><p>For more information\, call the Mendocino Theatre at 707-463-2290.</p>
LOCATION:Cotton Auditorium Fort Bragg CA
UID:e.2883.390
SEQUENCE:3
DTSTAMP:20260422T193103Z
URL:https://mendocinocoast.com/events/details/ballet-the-nutcracker-12-10-2014-390
END:VEVENT

END:VCALENDAR
