BEGIN:VCALENDAR
VERSION:2.0
PRODID:-//ChamberMaster//Event Calendar 2.0//EN
METHOD:PUBLISH
X-PUBLISHED-TTL:P3D
REFRESH-INTERVAL:P3D
CALSCALE:GREGORIAN
BEGIN:VEVENT
DTSTART:20151114T010000Z
DTEND:20151114T030000Z
X-MICROSOFT-CDO-ALLDAYEVENT:FALSE
SUMMARY:Bainbridge Park Revitalization Workshop
DESCRIPTION:The Community Development Department is hosting a workshop to gather public input for the Bainbridge Park Master Plan. Please join us at the workshop to share your ideas!
X-ALT-DESC;FMTTYPE=text/html:<p>The Community Development Department is hosting a workshop to gather public input for the Bainbridge Park Master Plan. Please join us at the workshop to share your ideas!</p>
LOCATION:Veteran's Hall Fort Bragg
UID:e.2883.784
SEQUENCE:3
DTSTAMP:20260422T000644Z
URL:https://mendocinocoast.com/events/details/bainbridge-park-revitalization-workshop-11-13-2015-784
END:VEVENT

END:VCALENDAR
