BEGIN:VCALENDAR
VERSION:2.0
PRODID:-//ChamberMaster//Event Calendar 2.0//EN
METHOD:PUBLISH
X-PUBLISHED-TTL:P3D
REFRESH-INTERVAL:P3D
CALSCALE:GREGORIAN
BEGIN:VEVENT
DTSTART:20140414T220100Z
DTEND:20140414T233100Z
X-MICROSOFT-CDO-ALLDAYEVENT:FALSE
SUMMARY:Bachfest: The Unaccompanied Suites Mendocino Music Festivall
DESCRIPTION:Bachfest: The Unaccompanied SuitesTuesday\, July 15\, 2014\, 3:00 PMMendocino Presbyterian Church SanctuaryEnjoy Susan Waterfallâ€™s four-day celebration and exploration of the Life and Art of J. S. Bach.Bachâ€™s keyboard works are often played\, but there are not so many opportunities to hear the wonderful suites for other instruments\, and even more rare\, to hear them in the lovely setting and gorgeous acoustics of the sanctuary of the historic Mendocino Presbyterian Church.Jeremy Cohen will perform the much-beloved Partita for Violin in D minor\, including the famous Chaconne. Mindy Rosenfeld will play selections from the Partita for Flute in A minor and Burke Schuchmann will present the Suite for Cello in C Major. Bonus: a few canons from the â€œMusical Offering.â€The Mendocino Music Festival runs July 12 - 26.
X-ALT-DESC;FMTTYPE=text/html:Bachfest: The Unaccompanied SuitesTuesday\, July 15\, 2014\, 3:00 PMMendocino Presbyterian Church SanctuaryEnjoy Susan Waterfallâ€™s four-day celebration and exploration of the Life and Art of J. S. Bach.Bachâ€™s keyboard works are often played\, but there are not so many opportunities to hear the wonderful suites for other instruments\, and even more rare\, to hear them in the lovely setting and gorgeous acoustics of the sanctuary of the historic Mendocino Presbyterian Church.Jeremy Cohen will perform the much-beloved Partita for Violin in D minor\, including the famous Chaconne. Mindy Rosenfeld will play selections from the Partita for Flute in A minor and Burke Schuchmann will present the Suite for Cello in C Major. Bonus: a few canons from the â€œMusical Offering.â€The Mendocino Music Festival runs July 12 - 26.
LOCATION:Mendocino Presbyterian Church Sanctuary
UID:e.2883.209
SEQUENCE:3
DTSTAMP:20260423T114250Z
URL:https://mendocinocoast.com/events/details/bachfest-the-unaccompanied-suites-mendocino-music-festivall-04-14-2014-209
END:VEVENT

END:VCALENDAR
