BEGIN:VCALENDAR
VERSION:2.0
PRODID:-//ChamberMaster//Event Calendar 2.0//EN
METHOD:PUBLISH
X-PUBLISHED-TTL:P3D
REFRESH-INTERVAL:P3D
CALSCALE:GREGORIAN
BEGIN:VEVENT
DTSTART:20140414T030100Z
DTEND:20140414T043000Z
X-MICROSOFT-CDO-ALLDAYEVENT:FALSE
SUMMARY:Bachfest: Musical Offering at Mendocino Music Festivall
DESCRIPTION:Bachfest: Musical Offering\, and Prutsman Plays BachWednesday\, July 16\, 2014\, 8:00 PMTent Concert Hall - overlooking the Pacific OceanSusan Waterfall will describe the history and significance of Bachâ€™s Musical Offering\, and perform canons and the Trio Sonata from that work\, with Jeremy Cohen\, violin\; Mindy Rosenfeld\, flute\; Burke Schuchmann\, cello. Brilliant Bach interpreter Stephen Prutsman will play and conduct the Festival Chamber Players in Bachâ€™s Clavier Concerto in D minor.The Mendocino Music Festival runs July 12 - 26
X-ALT-DESC;FMTTYPE=text/html:Bachfest: Musical Offering\, and Prutsman Plays BachWednesday\, July 16\, 2014\, 8:00 PMTent Concert Hall - overlooking the Pacific OceanSusan Waterfall will describe the history and significance of Bachâ€™s Musical Offering\, and perform canons and the Trio Sonata from that work\, with Jeremy Cohen\, violin\; Mindy Rosenfeld\, flute\; Burke Schuchmann\, cello. Brilliant Bach interpreter Stephen Prutsman will play and conduct the Festival Chamber Players in Bachâ€™s Clavier Concerto in D minor.The Mendocino Music Festival runs July 12 - 26
LOCATION:16\,000 square foot Tent Performance Hall Mendocino
UID:e.2883.211
SEQUENCE:3
DTSTAMP:20260423T100436Z
URL:https://mendocinocoast.com/events/details/bachfest-musical-offering-at-mendocino-music-festivall-04-13-2014-211
END:VEVENT

END:VCALENDAR
