BEGIN:VCALENDAR
VERSION:2.0
PRODID:-//ChamberMaster//Event Calendar 2.0//EN
METHOD:PUBLISH
X-PUBLISHED-TTL:P3D
REFRESH-INTERVAL:P3D
CALSCALE:GREGORIAN
BEGIN:VEVENT
DTSTART:20140410T220000Z
DTEND:20140410T233000Z
X-MICROSOFT-CDO-ALLDAYEVENT:FALSE
SUMMARY:Bachfest: Bach & Beer Mendocino Music Festival
DESCRIPTION:Bachfest: Bach and BeerSunday\, July 13\, 2014\, 3:00 PMTent Concert Hall - Overlooking the Pacific Ocean on Mendocino Headlands State ParkJ. S. Bach enjoyed life enormously\, and this certainly included beer drinking. He was often paid in beer. Find out more interesting and seldom considered facts in a multi-media lecture with historian Bob Winn\, noted beer authority Jay R. Brooks\, and scholar/pianist Susan Waterfall\, covering life in early 18th century Germany\, an overview of Bachâ€™s life\, and beer making in Bachâ€™s time. Beer tasting and Quodlibets!The Mendocino Music Festival runs July 12 - 26.Tickets and information: www.MendocinoMusic.org and 707 937-2044
X-ALT-DESC;FMTTYPE=text/html:Bachfest: Bach and BeerSunday\, July 13\, 2014\, 3:00 PMTent Concert Hall - Overlooking the Pacific Ocean on Mendocino Headlands State ParkJ. S. Bach enjoyed life enormously\, and this certainly included beer drinking. He was often paid in beer. Find out more interesting and seldom considered facts in a multi-media lecture with historian Bob Winn\, noted beer authority Jay R. Brooks\, and scholar/pianist Susan Waterfall\, covering life in early 18th century Germany\, an overview of Bachâ€™s life\, and beer making in Bachâ€™s time. Beer tasting and Quodlibets!The Mendocino Music Festival runs July 12 - 26.Tickets and information: www.MendocinoMusic.org and 707 937-2044
LOCATION:16\,000 square foot Tent Performance Hall on the Mendocino Headlands State Park
UID:e.2883.201
SEQUENCE:3
DTSTAMP:20260423T100436Z
URL:https://mendocinocoast.com/events/details/bachfest-bach-beer-mendocino-music-festival-04-10-2014-201
END:VEVENT

END:VCALENDAR
