BEGIN:VCALENDAR
VERSION:2.0
PRODID:-//ChamberMaster//Event Calendar 2.0//EN
METHOD:PUBLISH
X-PUBLISHED-TTL:P3D
REFRESH-INTERVAL:P3D
CALSCALE:GREGORIAN
BEGIN:VEVENT
DTSTART:20140410T220100Z
DTEND:20140411T000100Z
X-MICROSOFT-CDO-ALLDAYEVENT:FALSE
SUMMARY:Bachfest: Bach at Keyboard Mendocino Music Festivall
DESCRIPTION:Bachfest: Bach at the KeyboardMonday\, July 14\, 2014\, 3:00 PMPreston Hall - adjacent to the Mendocino Presbyterian ChurchPianists Susan Waterfall and Carolyn Steinbuck will consider Bachâ€™s role as father and teacher\, and will explore the international influences on his music. The concert consists of the Two-Part Inventions\, the Italian Concerto\, the C minor Partita\, and the 6-Voiced Ricercare from the Musical Offering.The Mendocino Music Festival runs July 12 - 26. For more information and to purchase tickets: www.MendocinoMusic.org or 707 937-2044.
X-ALT-DESC;FMTTYPE=text/html:Bachfest: Bach at the KeyboardMonday\, July 14\, 2014\, 3:00 PMPreston Hall - adjacent to the Mendocino Presbyterian ChurchPianists Susan Waterfall and Carolyn Steinbuck will consider Bachâ€™s role as father and teacher\, and will explore the international influences on his music. The concert consists of the Two-Part Inventions\, the Italian Concerto\, the C minor Partita\, and the 6-Voiced Ricercare from the Musical Offering.The Mendocino Music Festival runs July 12 - 26. For more information and to purchase tickets: www.MendocinoMusic.org or 707 937-2044.
LOCATION:16\,000 square foot Tent Performance Hall on the Mendocino Headlands State Park
UID:e.2883.203
SEQUENCE:3
DTSTAMP:20260423T100328Z
URL:https://mendocinocoast.com/events/details/bachfest-bach-at-keyboard-mendocino-music-festivall-04-10-2014-203
END:VEVENT

END:VCALENDAR
